BEGIN:VCALENDAR
VERSION:2.0
PRODID:-//Issuekalender - ECPv6.9.0//NONSGML v1.0//EN
CALSCALE:GREGORIAN
METHOD:PUBLISH
X-WR-CALNAME:Issuekalender
X-ORIGINAL-URL:https://issuekalender.nl
X-WR-CALDESC:Evenementen voor Issuekalender
REFRESH-INTERVAL;VALUE=DURATION:PT1H
X-Robots-Tag:noindex
X-PUBLISHED-TTL:PT1H
BEGIN:VTIMEZONE
TZID:Europe/Amsterdam
BEGIN:DAYLIGHT
TZOFFSETFROM:+0100
TZOFFSETTO:+0200
TZNAME:CEST
DTSTART:20290325T010000
END:DAYLIGHT
BEGIN:STANDARD
TZOFFSETFROM:+0200
TZOFFSETTO:+0100
TZNAME:CET
DTSTART:20291028T010000
END:STANDARD
END:VTIMEZONE
BEGIN:VEVENT
DTSTART;VALUE=DATE:20290301
DTEND;VALUE=DATE:20290401
DTSTAMP:20260423T180119
CREATED:20230714T124946Z
LAST-MODIFIED:20251111T111927Z
UID:10008577-1867017600-1869695999@issuekalender.nl
SUMMARY:ENDOMETRIOSE AWARENESS MAAND
DESCRIPTION:[vc_row][vc_column][vc_single_image image=”61″ css_animation=”fadeInUp” alignment=”left”][/vc_column][/vc_row][vc_row][vc_column][vc_column_text css_animation=”fadeIn” font_size=”45″ font_family=”Roboto” font_weight=”500″ color=”#57529e”]\nENDOMETRIOSE AWARENESS MAAND \n[/vc_column_text][vc_empty_space height=”10px”][vc_single_image image=”88″ img_size=”medium” css_animation=”fadeInUp” alignment=”left”][/vc_column][/vc_row][vc_row][vc_column][vc_column_text]De gehele maand maart is wereldwijd Endometriosis Awareness Month. \n\n[/vc_column_text][/vc_column][/vc_row][vc_row][vc_column][vc_single_image image=”61″ css_animation=”fadeInUp” alignment=”left”][/vc_column][/vc_row][vc_row][vc_column width=”1/2″]Issuekalender doorzoeken [/vc_column][vc_column width=”1/2″][/vc_column][/vc_row]
URL:https://issuekalender.nl/issue/endometriose-awareness-maand/2029-03-01/
CATEGORIES:Welzijn en gezondheid
END:VEVENT
BEGIN:VEVENT
DTSTART;VALUE=DATE:20290301
DTEND;VALUE=DATE:20290401
DTSTAMP:20260423T180119
CREATED:20230714T131149Z
LAST-MODIFIED:20251111T111937Z
UID:10008587-1867017600-1869695999@issuekalender.nl
SUMMARY:DARMKANKERMAAND
DESCRIPTION:[vc_row][vc_column][vc_single_image image=”61″ css_animation=”fadeInUp” alignment=”left”][/vc_column][/vc_row][vc_row][vc_column][vc_column_text css_animation=”fadeIn” font_size=”45″ font_family=”Roboto” font_weight=”500″ color=”#57529e”]\nDARMKANKERMAAND \n[/vc_column_text][vc_empty_space height=”10px”][vc_single_image image=”88″ img_size=”medium” css_animation=”fadeInUp” alignment=”left”][/vc_column][/vc_row][vc_row][vc_column][vc_column_text]Maart is internationaal uitgeroepen tot darmkankermaand. Tijdens de darmkankermaand geeft de Maag-\, Lever-\, Darm-Stichting extra aandacht aan de preventie van darmkanker en mensen die getroffen zijn door de ziekte. Jaarlijks krijgen meer dan 15.000 patiënten en hun naasten met darmkanker te maken.[/vc_column_text][/vc_column][/vc_row][vc_row][vc_column][vc_single_image image=”61″ css_animation=”fadeInUp” alignment=”left”][/vc_column][/vc_row][vc_row][vc_column width=”1/2″]Issuekalender doorzoeken [/vc_column][vc_column width=”1/2″][/vc_column][/vc_row]
URL:https://issuekalender.nl/issue/darmkankermaand/2029-03-01/
CATEGORIES:Welzijn en gezondheid
ORGANIZER;CN="Maag Lever Darm Stichting":MAILTO:info@mlds.nl
END:VEVENT
BEGIN:VEVENT
DTSTART;VALUE=DATE:20290314
DTEND;VALUE=DATE:20290327
DTSTAMP:20260423T180119
CREATED:20230714T135746Z
LAST-MODIFIED:20241028T155229Z
UID:10009051-1868140800-1869181199@issuekalender.nl
SUMMARY:BOEKENWEEK
DESCRIPTION:[vc_row][vc_column][vc_single_image image=”61″ css_animation=”fadeInUp” alignment=”left”][/vc_column][/vc_row][vc_row][vc_column][vc_column_text css_animation=”fadeIn” font_size=”45″ font_family=”Roboto” font_weight=”500″ color=”#57529e”]\nBOEKENWEEK \n[/vc_column_text][vc_empty_space height=”10px”][vc_single_image image=”88″ img_size=”medium” css_animation=”fadeInUp” alignment=”left”][/vc_column][/vc_row][vc_row][vc_column][vc_column_text css=””]In de Boekenweek staat literaire (non-) fictie centraal. Elke Boekenweek heeft een thema. Dit thema vestigt de aandacht op een bepaald segment en nieuwe uitgaven van het boekenaanbod. \n\nHet thema van de 89ste Boekenweek in 2025 is ’tijd’. De Boekenweek wordt gevierd van 16 tot en met 24 maart en het Boekenweekgeschenk wordt geschreven door de grootste schrijversfamilie van Nederland: de Chabotten.\n\n\n\n\n\n\n\n\n\n[/vc_column_text][/vc_column][/vc_row][vc_row][vc_column][vc_single_image image=”61″ css_animation=”fadeInUp” alignment=”left”][/vc_column][/vc_row][vc_row][vc_column width=”1/2″]Issuekalender doorzoeken [/vc_column][vc_column width=”1/2″][/vc_column][/vc_row]
URL:https://issuekalender.nl/issue/boekenweek/2029-03-14/
CATEGORIES:Kunst en cultuur,Onderwijs en educatie,Ontspanning en plezier
ORGANIZER;CN="Stichting CPNB":MAILTO:info@cpnb.nl
END:VEVENT
BEGIN:VEVENT
DTSTART;VALUE=DATE:20290325
DTEND;VALUE=DATE:20290326
DTSTAMP:20260423T180119
CREATED:20230715T124444Z
LAST-MODIFIED:20241024T141415Z
UID:10008772-1869091200-1869177599@issuekalender.nl
SUMMARY:ZOMERTIJD
DESCRIPTION:[vc_row][vc_column][vc_single_image image=”61″ css_animation=”fadeInUp” alignment=”left”][/vc_column][/vc_row][vc_row][vc_column][vc_column_text css_animation=”fadeIn” font_size=”45″ font_family=”Roboto” font_weight=”500″ color=”#57529e”]\nZOMERTIJD \n[/vc_column_text][vc_empty_space height=”10px”][vc_single_image image=”88″ img_size=”medium” css_animation=”fadeInUp” alignment=”left”][/vc_column][/vc_row][vc_row][vc_column][vc_column_text]De zomertijd is de tijd die gedurende de zomer wordt gehanteerd. De klok wordt dan 1 uur vooruit gezet. Dit wordt gedaan omdat in de zomer de zon vroeger opkomt. Door de klok vooruit te zetten loopt de periode van het daglicht en de periode dat mensen wakker zijn het meest gelijk. De zomertijd in de Europese Unie loopt van de laatste zondag van maart tot de laatste zondag van oktober.[/vc_column_text][/vc_column][/vc_row][vc_row][vc_column][vc_single_image image=”61″ css_animation=”fadeInUp” alignment=”left”][/vc_column][/vc_row][vc_row][vc_column width=”1/2″]Issuekalender doorzoeken [/vc_column][vc_column width=”1/2″][/vc_column][/vc_row]
URL:https://issuekalender.nl/issue/zomertijd/2029-03-25/
CATEGORIES:Mens en maatschappij,Milieu en duurzaamheid
END:VEVENT
BEGIN:VEVENT
DTSTART;VALUE=DATE:20290325
DTEND;VALUE=DATE:20290327
DTSTAMP:20260423T180119
CREATED:20230715T123333Z
LAST-MODIFIED:20251111T112951Z
UID:10009171-1869091200-1869181199@issuekalender.nl
SUMMARY:WERELD WATERDAG (VN)
DESCRIPTION:[vc_row][vc_column][vc_single_image image=”61″ css_animation=”fadeInUp” alignment=”left”][/vc_column][/vc_row][vc_row][vc_column][vc_column_text css_animation=”fadeIn” font_size=”45″ font_family=”Roboto” font_weight=”500″ color=”#57529e”]\nWERELD WATERDAG (VN) \n[/vc_column_text][vc_empty_space height=”10px”][vc_single_image image=”88″ img_size=”medium” css_animation=”fadeInUp” alignment=”left”][/vc_column][/vc_row][vc_row][vc_column][vc_column_text]Wereldwijd staan waterbeheer en sanitatie onder druk. Dit leidt onder meer tot voedsel tekorten\, uitputting van natuurlijke bronnen en bodemdaling. Klimaatverandering en demografische en economische ontwikkelingen hebben ons bewust gemaakt van de noodzaak om aandacht te vragen voor deze wereldwijde uitdagingen. \nIn 1992 hebben de Verenigde Naties (VN) 22 maart uitgeroepen tot Wereld Waterdag. Elk lid van de VN heeft zich gecommitteerd om deze dag te benutten voor het creëren van bewustwording bij het brede publiek en sectorpartijen over de nationale en mondiale waterproblematiek door activiteiten te organiseren die passen binnen de nationale context. Jaarlijks heeft deze dag ander thema om een aspect van de wereldwaterproblematiek te belichten. \nStichting Aquarius is een non-profit organisatie die aandacht vraagt voor schoon water door middel van uiteenlopende evenementen. Zo organiseert Stichting Aquarius sinds 2008 elk jaar de King Of The Rivers\, de Zeemeerminnenparade en Wereld Water Dag met als doel een gedragsverandering te bereiken bij politici\, wetenschappers\, journalisten\, ondernemers en burgers. \nOok mooi in dit thema: Energievergelijk.nl heeft een dossier samengesteld met tips om water te besparen. Kijk hier:  https://www.energievergelijk.nl/onderwerpen/101-tips-water-besparen.[/vc_column_text][/vc_column][/vc_row][vc_row][vc_column][vc_single_image image=”61″ css_animation=”fadeInUp” alignment=”left”][/vc_column][/vc_row][vc_row][vc_column width=”1/2″]Issuekalender doorzoeken [/vc_column][vc_column width=”1/2″][/vc_column][/vc_row]
URL:https://issuekalender.nl/issue/wereld-waterdag-vn/2029-03-25/
CATEGORIES:Milieu en duurzaamheid
END:VEVENT
BEGIN:VEVENT
DTSTART;VALUE=DATE:20290325
DTEND;VALUE=DATE:20290327
DTSTAMP:20260423T180119
CREATED:20230715T124401Z
LAST-MODIFIED:20251111T113056Z
UID:10006784-1869091200-1869181199@issuekalender.nl
SUMMARY:INTERNATIONALE HERDENKINGSDAG VAN DE SLACHTOFFERS VAN SLAVERNIJ EN DE TRANS-ATLANTISCHE SLAVENHANDEL (VN)
DESCRIPTION:[vc_row][vc_column][vc_single_image image=”61″ css_animation=”fadeInUp” alignment=”left”][/vc_column][/vc_row][vc_row][vc_column][vc_column_text css_animation=”fadeIn” font_size=”45″ font_family=”Roboto” font_weight=”500″ color=”#57529e”]\nINTERNATIONALE HERDENKINGSDAG VAN DE SLACHTOFFERS VAN SLAVERNIJ EN DE TRANS-ATLANTISCHE SLAVENHANDEL (VN) \n[/vc_column_text][vc_empty_space height=”10px”][vc_single_image image=”88″ img_size=”medium” css_animation=”fadeInUp” alignment=”left”][/vc_column][/vc_row][vc_row][vc_column][vc_column_text]Op 17 december 2007 heeft de Algemene Vergadering van de Verenigde Naties de resolutie aangenomen om jaarlijks op 25 maart de slachtoffers van slavernij te herdenken. Gedurende 400 jaar zijn er meer dan 15 miljoen mensen slachtoffer geworden van de trans-Atlantische slavenhandel. Deze slachtoffers worden ieder jaar herdacht op 25 maart. Tegelijkertijd vragen de Verenigde Naties aandacht voor de gevaren van racisme en vooroordelen[/vc_column_text][/vc_column][/vc_row][vc_row][vc_column][vc_single_image image=”61″ css_animation=”fadeInUp” alignment=”left”][/vc_column][/vc_row][vc_row][vc_column width=”1/2″]Issuekalender doorzoeken [/vc_column][vc_column width=”1/2″][/vc_column][/vc_row]
URL:https://issuekalender.nl/issue/internationale-herdenkingsdag-van-de-slachtoffers-van-slavernij-en-de-trans-atlantische-slavenhandel-vn/2029-03-25/
CATEGORIES:Mens en maatschappij
END:VEVENT
BEGIN:VEVENT
DTSTART;VALUE=DATE:20290325
DTEND;VALUE=DATE:20290327
DTSTAMP:20260423T180119
CREATED:20251117T092359Z
LAST-MODIFIED:20251117T092359Z
UID:10009351-1869091200-1869181199@issuekalender.nl
SUMMARY:BEWUST VEILIG-DAG
DESCRIPTION:[vc_row][vc_column][vc_single_image image=”61″ css_animation=”fadeInUp” alignment=”left”][/vc_column][/vc_row][vc_row][vc_column][vc_column_text css_animation=”fadeIn” font_size=”45″ font_family=”Roboto” font_weight=”500″ color=”#57529e”]\nBEWUST VEILIG-DAG \n[/vc_column_text][vc_empty_space height=”10px”][vc_single_image image=”88″ img_size=”medium” css_animation=”fadeInUp” alignment=”left”][/vc_column][/vc_row][vc_row][vc_column][vc_column_text css=””]Bouwend Nederland\, Aannemersfederatie Nederland Bouw en Infra\, Techniek Nederland en OnderhoudNL hebben de handen ineen geslagen om één dag per jaar Bewust Veilig te zijn. De motivatie is dat iedereen aan het eind van de werkdag weer gezond en veilig naar huis moet kunnen en aan het eind van zijn loopbaan gezond en fit met pensioen. Het is van het grootste belang om ongelukken en arbeidsongeschiktheid te voorkomen\, én om faciliteiten te bieden zodat mensen duurzaam inzetbaar zijn en blijven. Dat is een gezamenlijk belang van werkgevers én werknemers. \n[/vc_column_text][/vc_column][/vc_row][vc_row][vc_column][vc_single_image image=”61″ css_animation=”fadeInUp” alignment=”left”][/vc_column][/vc_row][vc_row][vc_column width=”1/2″]Issuekalender doorzoeken [/vc_column][vc_column width=”1/2″][/vc_column][/vc_row]
URL:https://issuekalender.nl/issue/bewust-veilig-dag-2-2/2029-03-25/
CATEGORIES:Veiligheid
ORGANIZER;CN="Bouwend Nederland%2C Aannemersfederatie Nederland Bouw en Infra%2C Techniek Nederland%2C OnderhoudNL":MAILTO:info@bewustveilig.com
END:VEVENT
END:VCALENDAR