BEGIN:VCALENDAR
VERSION:2.0
PRODID:-//Issuekalender - ECPv6.9.0//NONSGML v1.0//EN
CALSCALE:GREGORIAN
METHOD:PUBLISH
X-ORIGINAL-URL:https://issuekalender.nl
X-WR-CALDESC:Evenementen voor Issuekalender
REFRESH-INTERVAL;VALUE=DURATION:PT1H
X-Robots-Tag:noindex
X-PUBLISHED-TTL:PT1H
BEGIN:VTIMEZONE
TZID:Europe/Amsterdam
BEGIN:DAYLIGHT
TZOFFSETFROM:+0100
TZOFFSETTO:+0200
TZNAME:CEST
DTSTART:20290325T010000
END:DAYLIGHT
BEGIN:STANDARD
TZOFFSETFROM:+0200
TZOFFSETTO:+0100
TZNAME:CET
DTSTART:20291028T010000
END:STANDARD
END:VTIMEZONE
BEGIN:VEVENT
DTSTART;VALUE=DATE:20290301
DTEND;VALUE=DATE:20290401
DTSTAMP:20260423T180114
CREATED:20230714T124946Z
LAST-MODIFIED:20251111T111927Z
UID:10008577-1867017600-1869695999@issuekalender.nl
SUMMARY:ENDOMETRIOSE AWARENESS MAAND
DESCRIPTION:[vc_row][vc_column][vc_single_image image=”61″ css_animation=”fadeInUp” alignment=”left”][/vc_column][/vc_row][vc_row][vc_column][vc_column_text css_animation=”fadeIn” font_size=”45″ font_family=”Roboto” font_weight=”500″ color=”#57529e”]\nENDOMETRIOSE AWARENESS MAAND \n[/vc_column_text][vc_empty_space height=”10px”][vc_single_image image=”88″ img_size=”medium” css_animation=”fadeInUp” alignment=”left”][/vc_column][/vc_row][vc_row][vc_column][vc_column_text]De gehele maand maart is wereldwijd Endometriosis Awareness Month. \n\n[/vc_column_text][/vc_column][/vc_row][vc_row][vc_column][vc_single_image image=”61″ css_animation=”fadeInUp” alignment=”left”][/vc_column][/vc_row][vc_row][vc_column width=”1/2″]Issuekalender doorzoeken [/vc_column][vc_column width=”1/2″][/vc_column][/vc_row]
URL:https://issuekalender.nl/issue/endometriose-awareness-maand/2029-03-01/
CATEGORIES:Welzijn en gezondheid
END:VEVENT
BEGIN:VEVENT
DTSTART;VALUE=DATE:20290301
DTEND;VALUE=DATE:20290401
DTSTAMP:20260423T180114
CREATED:20230714T131149Z
LAST-MODIFIED:20251111T111937Z
UID:10008587-1867017600-1869695999@issuekalender.nl
SUMMARY:DARMKANKERMAAND
DESCRIPTION:[vc_row][vc_column][vc_single_image image=”61″ css_animation=”fadeInUp” alignment=”left”][/vc_column][/vc_row][vc_row][vc_column][vc_column_text css_animation=”fadeIn” font_size=”45″ font_family=”Roboto” font_weight=”500″ color=”#57529e”]\nDARMKANKERMAAND \n[/vc_column_text][vc_empty_space height=”10px”][vc_single_image image=”88″ img_size=”medium” css_animation=”fadeInUp” alignment=”left”][/vc_column][/vc_row][vc_row][vc_column][vc_column_text]Maart is internationaal uitgeroepen tot darmkankermaand. Tijdens de darmkankermaand geeft de Maag-\, Lever-\, Darm-Stichting extra aandacht aan de preventie van darmkanker en mensen die getroffen zijn door de ziekte. Jaarlijks krijgen meer dan 15.000 patiënten en hun naasten met darmkanker te maken.[/vc_column_text][/vc_column][/vc_row][vc_row][vc_column][vc_single_image image=”61″ css_animation=”fadeInUp” alignment=”left”][/vc_column][/vc_row][vc_row][vc_column width=”1/2″]Issuekalender doorzoeken [/vc_column][vc_column width=”1/2″][/vc_column][/vc_row]
URL:https://issuekalender.nl/issue/darmkankermaand/2029-03-01/
CATEGORIES:Welzijn en gezondheid
ORGANIZER;CN="Maag Lever Darm Stichting":MAILTO:info@mlds.nl
END:VEVENT
BEGIN:VEVENT
DTSTART;VALUE=DATE:20290303
DTEND;VALUE=DATE:20290312
DTSTAMP:20260423T180114
CREATED:20251117T091938Z
LAST-MODIFIED:20251117T091939Z
UID:10009335-1867190400-1867967999@issuekalender.nl
SUMMARY:WEEK VAN DE HOOGBEGAAFDHEID
DESCRIPTION:[vc_row][vc_column][vc_single_image image=”61″ css_animation=”fadeInUp” alignment=”left”][/vc_column][/vc_row][vc_row][vc_column][vc_column_text css_animation=”fadeIn” font_size=”45″ font_family=”Roboto” font_weight=”500″ color=”#57529e”]\nWEEK VAN DE HOOGBEGAAFDHEID \n[/vc_column_text][vc_empty_space height=”10px”][vc_single_image image=”88″ img_size=”medium” css_animation=”fadeInUp” alignment=”left”][/vc_column][/vc_row][vc_row][vc_column][vc_column_text]Hoogbegaafdheid is een woord dat niet bij iedereen positieve gedachten oproept. Er bestaan ook veel vooroordelen en misvattingen over. Mede hierdoor kunnen hoogbegaafden niet altijd en overal zichzelf zijn en hun talenten optimaal inzetten. En dat is enorm jammer\, want hoogbegaafden hebben de maatschappij veel te bieden.\nDe Week van de Hoogbegaafdheid brengt het onderwerp positief onder de aandacht en wil kennis over hoogbegaafdheid verspreiden en vooroordelen en misvattingen proberen weg te nemen.[/vc_column_text][/vc_column][/vc_row][vc_row][vc_column][vc_single_image image=”61″ css_animation=”fadeInUp” alignment=”left”][/vc_column][/vc_row][vc_row][vc_column width=”1/2″]Issuekalender doorzoeken [/vc_column][vc_column width=”1/2″][/vc_column][/vc_row]
URL:https://issuekalender.nl/issue/week-van-de-hoogbegaafdheid-2/2029-03-03/
CATEGORIES:Mens en maatschappij,Onderwijs en educatie
ORGANIZER;CN="Rianne van de Ven%2C Vereniging Mensa Nederland%2C Instituut hoogbegaafdheid Nederland%2C iQBegrijp":MAILTO:info@weekvandehoogbegaafdheid.nl
END:VEVENT
BEGIN:VEVENT
DTSTART;VALUE=DATE:20290305
DTEND;VALUE=DATE:20290312
DTSTAMP:20260423T180114
CREATED:20231030T132143Z
LAST-MODIFIED:20241024T114940Z
UID:10008388-1867363200-1867967999@issuekalender.nl
SUMMARY:NATIONALE WEEK ZONDER VLEES EN ZUIVEL
DESCRIPTION:[vc_row][vc_column][vc_single_image image=”61″ css_animation=”fadeInUp” alignment=”left”][/vc_column][/vc_row][vc_row][vc_column][vc_column_text css_animation=”fadeIn” font_size=”45″ font_family=”Roboto” font_weight=”500″ color=”#57529e”]\nNATIONALE WEEK ZONDER VLEES EN ZUIVEL \n[/vc_column_text][vc_empty_space height=”10px”][vc_single_image image=”88″ img_size=”medium” css_animation=”fadeInUp” alignment=”left”][/vc_column][/vc_row][vc_row][vc_column][vc_column_text]Nationale Week Zonder Vlees & Zuivel \nWij vinden dat elke dag vlees en zuivel eten niet meer van deze tijd is. Met de Nationale Week Zonder Vlees & Zuivel roepen we deelnemers op om een week vlees en zuivel te laten staan. Zo willen we een flexitarisch eetpatroon promoten\, waarbij vlees en zuivel afgewisseld worden met vegetarische en plantaardige alternatieven. Vaker een dagje geen vlees\, vis en zuivel eten is een kleine moeite maar heeft een enorm positieve impact op mens\, dier en milieu. Door geen vlees en zuivel te consumeren tijdens de Nationale Week Zonder Vlees & Zuivel verlaag je de milieudruk van je voeding. Je bespaart bijvoorbeeld op watergebruik en de uitstoot van broeikasgassen die bijdragen aan klimaatverandering. Iedereen die het volhoudt om gedurende één week geen vlees en zuivel te eten\, bespaart maar liefst… \nStichting Nationale Week Zonder Vlees is een stichting met ANBI-status. De stichting is in het leven geroepen door Isabel Boerdam. Isabel is vegetariër sinds haar 9e en deelt sinds 2013 vegetarische inspiratie op haar foodblog De Hippe Vegetariër. In 2018 besloot ze dat het tijd was voor meer. Met haar communicatie-expertise en foodnetwerk als basis\, besloot Isabel zelf een bijdrage te willen leveren aan de uitdagende klimaatdoelstellingen en de maatschappelijke gezondheid. Ze bedacht de Nationale Week Zonder Vlees en voerde de eerste editie in 2018 in haar eentje uit. Sindsdien is de campagne het jaarlijks terugkerende non-profit initiatief van haar Food Consultancy & Communications Agency Green Food Lab. Zo vertaalt Isabel met de Nationale Week Zonder Vlees & Zuivel de missie van Green Food Lab om de route naar meer plantaardig in Nederland te versnellen naar concrete acties met direct meetbare resultaten. \nSinds 2018 is er veel veranderd. Tijd dus voor een volgende stap. Vlees is namelijk niet het enige wat een enorme CO2-uitstoot en waterafdruk achterlaat\, ook zuivel is erg belastend voor het milieu. In 2022 is daarom de extra laag ‘& Zuivel’ toegevoegd aan de campagne. De Nationale Week Zonder Vlees & Zuivel vindt jaarlijks plaats in maart.[/vc_column_text][/vc_column][/vc_row][vc_row][vc_column][vc_single_image image=”61″ css_animation=”fadeInUp” alignment=”left”][/vc_column][/vc_row][vc_row][vc_column width=”1/2″]Issuekalender doorzoeken [/vc_column][vc_column width=”1/2″][/vc_column][/vc_row]
URL:https://issuekalender.nl/issue/nationale-week-zonder-vlees-en-zuivel/2029-03-05/
CATEGORIES:Dierenwelzijn,Welzijn en gezondheid
ORGANIZER;CN="Isabel Boerdam":MAILTO:weekzondervlees@gmail.com
END:VEVENT
BEGIN:VEVENT
DTSTART;VALUE=DATE:20290305
DTEND;VALUE=DATE:20290312
DTSTAMP:20260423T180114
CREATED:20251117T092038Z
LAST-MODIFIED:20251117T092039Z
UID:10009339-1867363200-1867967999@issuekalender.nl
SUMMARY:WEEK VAN DE AFVALHELDEN
DESCRIPTION:[vc_row][vc_column][vc_single_image image=”61″ css_animation=”fadeInUp” alignment=”left”][/vc_column][/vc_row][vc_row][vc_column][vc_column_text css_animation=”fadeIn” font_size=”45″ font_family=”Roboto” font_weight=”500″ color=”#57529e”]\nWEEK VAN DE AFVALHELDEN \n[/vc_column_text][vc_empty_space height=”10px”][vc_single_image image=”88″ img_size=”medium” css_animation=”fadeInUp” alignment=”left”][/vc_column][/vc_row][vc_row][vc_column][vc_column_text]Afvalinzameling\, groenbeheer\, reiniging en verwerking: werk dat essentieel is voor een een slim gebruik van afval en grondstoffen en een goed draaiende samenleving. In de Week van de AfvalHelden zetten we onze medewerkers in het zonnetje. Dat zijn er best veel: ongeveer 30.000 mensen zetten zich dagelijks in voor het inzamelen van afval en grondstoffen\, het runnen van een milieustraat\, het veilig vervoeren naar de verwerker\, het verwerken en recyclen. We noemen ze onze AfvalHelden\, met een hoofdletter H. Ook zijn er medewerkers actief in ‘het groen en grijs’: van rioolbeheerder tot kolkenreiniger\, van zoutstrooier tot begraafplaatsbeheerder. Een rijke verzameling van beroepen met een gemeenschappelijk kenmerk: het gaat om mooi werk dat ertoe doet. Ze werken in een vitale sector. En verdienen onze waardering.[/vc_column_text][/vc_column][/vc_row][vc_row][vc_column][vc_single_image image=”61″ css_animation=”fadeInUp” alignment=”left”][/vc_column][/vc_row][vc_row][vc_column width=”1/2″]Issuekalender doorzoeken [/vc_column][vc_column width=”1/2″][/vc_column][/vc_row]
URL:https://issuekalender.nl/issue/week-van-de-afvalhelden-2/2029-03-05/
CATEGORIES:Mens en maatschappij,Milieu en duurzaamheid,Overige
ORGANIZER;CN="NVRD":MAILTO:info@weekvandeafvalhelden.nl
END:VEVENT
BEGIN:VEVENT
DTSTART;VALUE=DATE:20290306
DTEND;VALUE=DATE:20290307
DTSTAMP:20260423T180114
CREATED:20230714T132631Z
LAST-MODIFIED:20251111T112554Z
UID:10008403-1867449600-1867535999@issuekalender.nl
SUMMARY:EUROPESE DAG VAN DE LOGOPEDIE
DESCRIPTION:[vc_row][vc_column][vc_single_image image=”61″ css_animation=”fadeInUp” alignment=”left”][/vc_column][/vc_row][vc_row][vc_column][vc_column_text css_animation=”fadeIn” font_size=”45″ font_family=”Roboto” font_weight=”500″ color=”#57529e”]\nEUROPESE DAG VAN DE LOGOPEDIE \n[/vc_column_text][vc_empty_space height=”10px”][vc_single_image image=”88″ img_size=”medium” css_animation=”fadeInUp” alignment=”left”][/vc_column][/vc_row][vc_row][vc_column][vc_column_text]Met ondersteunde communicatie geeft de logopedist iedereen een stem \nNiet of nauwelijks kunnen spreken\, betekent niet dat je niets te zeggen hebt. Ook kinderen en volwassenen die niet goed kunnen spreken\, hebben behoefte aan communiceren. Door gebruik te maken van andere communicatievormen en -middelen\, kunnen zij zich toch uiten. De logopedist kan een belangrijke rol spelen bij deze ‘ondersteunde communicatie’.[/vc_column_text][/vc_column][/vc_row][vc_row][vc_column][vc_single_image image=”61″ css_animation=”fadeInUp” alignment=”left”][/vc_column][/vc_row][vc_row][vc_column width=”1/2″]Issuekalender doorzoeken [/vc_column][vc_column width=”1/2″][/vc_column][/vc_row]
URL:https://issuekalender.nl/issue/europese-dag-van-de-logopedie/2029-03-06/
CATEGORIES:Mens en maatschappij,Welzijn en gezondheid
END:VEVENT
END:VCALENDAR