BEGIN:VCALENDAR
VERSION:2.0
PRODID:-//Issuekalender - ECPv6.9.0//NONSGML v1.0//EN
CALSCALE:GREGORIAN
METHOD:PUBLISH
X-ORIGINAL-URL:https://issuekalender.nl
X-WR-CALDESC:Evenementen voor Issuekalender
REFRESH-INTERVAL;VALUE=DURATION:PT1H
X-Robots-Tag:noindex
X-PUBLISHED-TTL:PT1H
BEGIN:VTIMEZONE
TZID:Europe/Amsterdam
BEGIN:DAYLIGHT
TZOFFSETFROM:+0100
TZOFFSETTO:+0200
TZNAME:CEST
DTSTART:20290325T010000
END:DAYLIGHT
BEGIN:STANDARD
TZOFFSETFROM:+0200
TZOFFSETTO:+0100
TZNAME:CET
DTSTART:20291028T010000
END:STANDARD
END:VTIMEZONE
BEGIN:VEVENT
DTSTART;VALUE=DATE:20290101
DTEND;VALUE=DATE:20290201
DTSTAMP:20260423T110557
CREATED:20231011T100111Z
LAST-MODIFIED:20240731T123221Z
UID:10006539-1861920000-1864598399@issuekalender.nl
SUMMARY:DRY JANUARY / IKPAS
DESCRIPTION:[vc_row][vc_column][vc_single_image image=”61″ css_animation=”fadeInUp” alignment=”left”][/vc_column][/vc_row][vc_row][vc_column][vc_column_text css_animation=”fadeIn” font_size=”45″ font_family=”Roboto” font_weight=”500″ color=”#57529e”]\nDRY JANUARY / IKPAS \n[/vc_column_text][vc_empty_space height=”10px”][vc_single_image image=”88″ img_size=”medium” css_animation=”fadeInUp” alignment=”left”][/vc_column][/vc_row][vc_row][vc_column][vc_column_text]Dry January is een Brits initiatief\, dat is overgewaaid naar Nederland. Tijdens Dry January is het de bedoeling dat je de hele maand januari geen alcohol drinkt. Een maand geen alcohol drinken heeft veel voordelen. Je slaapt beter\, verliest gewicht\, je hebt meer energie\, de kwaliteit van je huid verbetert\, het is goed voor je organen en je bespaart geld. In 2013 is de eerste Dry January-campagne in Engeland van start gegaan\, via de vrijwilligersorganisatie Alcohol Change UK. Hier deden toen nog maar een bescheiden 4000 mensen aan mee. Pas vanaf 2014 werd het een wijd bekend fenomeen\, waarbij in dat jaar al zo’n 17.000 Britten meededen. \nDry January is inmiddels overgewaaid naar andere landen\, waaronder Nederland. IkPas is de Nederlandse variant van Dry January. Als je meedoet aan Dry January van IkPas\, dan zet je je alcoholgebruik een maand op pauze. Dry January loopt van 1 januari tot en met 30 januari. De 40 dagen-challenge loopt van Aswoensdag tot en met de zondag voor Pasen\, tijdens de traditionele vastenperiode tussen carnaval en Pasen. Mocht je nu later in het jaar nog eens een maand of langer met de ondersteuning van IkPas geen alcohol willen drinken\, dan kun je meedoen met een van de andere vaste maandchallenges. Iedere eerste van de maand start er weer een nieuwe maandchallenge. Inschrijven kan op ieder moment van de maand. Binnen een paar muisklikken heb je je aangemeld. Je kunt rekenen op ondersteuning in de vorm van laagdrempelige nieuwsbrieven\, een dashboard\, forum\, dagboekfunctie en een IkPas-coach voor al je vragen. \nIkPas is een paraplucampagne. Dat wil zeggen dat veel organisaties aanhaken bij het organiseren van deze actie. Allereerst doen alle 26 GGD’s en 10 verslavingszorginstellingen in Nederland mee aan de organisatie van IkPas. Ook het KBO/PCOB is een samenwerkingspartner als het gaat om het organiseren van IkPas voor senioren. Daarnaast heeft IkPas ook een internationale samenwerking met Alcohol Change UK\, omdat IkPas de Nederlandse variant is van Dry January.[/vc_column_text][/vc_column][/vc_row][vc_row][vc_column][vc_single_image image=”61″ css_animation=”fadeInUp” alignment=”left”][/vc_column][/vc_row][vc_row][vc_column width=”1/2″]Issuekalender doorzoeken [/vc_column][vc_column width=”1/2″][/vc_column][/vc_row]
URL:https://issuekalender.nl/issue/dry-january-ikpas-2/2029-01-01/
CATEGORIES:Welzijn en gezondheid
END:VEVENT
BEGIN:VEVENT
DTSTART;VALUE=DATE:20290101
DTEND;VALUE=DATE:20290201
DTSTAMP:20260423T110557
CREATED:20231011T135903Z
LAST-MODIFIED:20240731T124812Z
UID:10006562-1861920000-1864598399@issuekalender.nl
SUMMARY:VEGANUARY
DESCRIPTION:[vc_row][vc_column][vc_single_image image=”61″ css_animation=”fadeInUp” alignment=”left”][/vc_column][/vc_row][vc_row][vc_column][vc_column_text css_animation=”fadeIn” font_size=”45″ font_family=”Roboto” font_weight=”500″ color=”#57529e”]\nVEGANUARY \n[/vc_column_text][vc_empty_space height=”10px”][vc_single_image image=”88″ img_size=”medium” css_animation=”fadeInUp” alignment=”left”][/vc_column][/vc_row][vc_row][vc_column][vc_column_text]Volgens onderzoek van Thuisbezorgd.nl* en iVox blijkt dat de interesse van Nederlanders voor vegan maaltijden blijft groeien. Toch twijfelt één op de drie fijnproevers of ze met plantaardige maaltijden wel voldoende essentiële voedingsstoffen binnenkrijgen. \nThuisbezorgd.nl sluit zich daarom aan bij het wereldwijde initiatief Veganuary om iedereen te inspireren in januari vegan eten te proberen. Samen met experts en restaurants helpt Thuisbezorgd.nl de hele maand om de stap voor Nederlanders naar vegan zo makkelijk mogelijk te maken. \n– 40% van alle Nederlanders en ruim de helft van de jongeren eet minstens een keer per maand vegan \n – Bijna 30% heeft in de afgelopen 5 jaar voor het eerst bewust een vegan maaltijd geprobeerd \n – 32% van de Nederlanders die wel eens vegan eten geeft aan niet altijd goed te weten hoe ze voldoende essentiële voedingsstoffen kunnen binnenkrijgen \nDe Veganuary-beweging\, waarbij honderdduizenden mensen wereldwijd het jaar beginnen met een vegan voedingspatroon\, bestaat sinds 2014 en won de afgelopen jaren sterk aan populariteit. Ook Thuisbezorgd.nl ziet dat steeds meer mensen de stap naar vegan willen maken. Zo’n één op de vijf Nederlanders (21%) overweegt om vaker vegan te bestellen dan vijf jaar geleden. Die houding is terug te zien bij de grootste eten bestelsite van Nederland. In 2020 zag Thuisbezorgd.nl het aantal bestellingen van vegan maaltijden bijna verdubbelen. Het aantal vegan maaltijden aangeboden door restaurants is daarbij ook met 40% toegenomen. \nWAAROM VEGAN ETEN?\nVoor de meeste Nederlanders is dierenwelzijn (1 op de 5) de belangrijkste reden om vegan te eten\, gevolgd door het klimaat en hun gezondheid. Vrouwen (21%) geven vaker dan mannen (11%) aan dat ze voornamelijk vanwege het welzijn van dieren vegan zouden eten. \nLisa Stel\, (vegan kookboeken auteur en adviseur)\, die samenwerkt met Thuisbezorgd.nl tijdens Veganuary: “Er zijn genoeg redenen om (vaker) plantaardig te eten. Zo draag je bij aan een gezondere planeet en leefomgeving\, minder dierenleed\, een goede gezondheid en het is ontzettend lekker. Toch kan de overstap naar een uitgebalanceerd plantaardig voedingspatroon als een uitdaging klinken. Gelukkig is het makkelijker dan je denkt en zijn er tal van mogelijkheden waarbij je niets hoeft in te leveren qua smaak. Daarom ben ik blij dat grotere bedrijven zoals Thuisbezorgd.nl dit initiatief supporten en op deze manier een groter publiek inspireren om vaker te kiezen voor een lekker vegan gerecht. Ik draag hier graag aan bij\, want elke stap telt.” \nVEGANUARY ZO MAKKELIJK EN LEUK MOGELIJK MAKEN\nThuisbezorgd.nl wil Nederlanders inspireren om in januari vegan te eten. Dat kan zijn voor een volledige maand of bijvoorbeeld voor één dag in de week. Hoe dan ook helpt Thuisbezorgd.nl iedereen die deelneemt aan Veganuary met een aantal initiatieven. Zo deelt het bedrijf de hele maand tips en adviezen met hulp van experts zoals Lisa Stel\, auteur van twee vegan kookboeken en het populaire Lisa goes Vegan platform. Daarnaast worden tips voor maaltijden en restaurants gedeeld\, maar worden er ook speciale kortingen en samenwerkingen met restaurants geïntroduceerd om de stap naar een vegan voedingspatroon zo eenvoudig mogelijk te maken. \n“Veganuary inspireert elk jaar mensen wereldwijd om plantaardige maaltijden uit te proberen en zo bij te dragen aan een betere wereld”\, zegt Thomas van den Hof van Thuisbezorgd.nl. “We zien ook dat steeds meer Nederlanders op zoek zijn naar vegan maaltijden. We nemen dan ook graag deel aan Veganuary en hopen zo een steentje bij te dragen om plantaardig eten aantrekkelijker en toegankelijker te maken.”[/vc_column_text][/vc_column][/vc_row][vc_row][vc_column][vc_single_image image=”61″ css_animation=”fadeInUp” alignment=”left”][/vc_column][/vc_row][vc_row][vc_column width=”1/2″]Issuekalender doorzoeken [/vc_column][vc_column width=”1/2″][/vc_column][/vc_row]
URL:https://issuekalender.nl/issue/veganuary-2/2029-01-01/
CATEGORIES:Milieu en duurzaamheid,Welzijn en gezondheid
END:VEVENT
BEGIN:VEVENT
DTSTART;VALUE=DATE:20290122
DTEND;VALUE=DATE:20290202
DTSTAMP:20260423T110557
CREATED:20231012T104805Z
LAST-MODIFIED:20241024T144537Z
UID:10008842-1863734400-1864684799@issuekalender.nl
SUMMARY:DE NATIONALE VOORLEESDAGEN
DESCRIPTION:[vc_row][vc_column][vc_single_image image=”61″ css_animation=”fadeInUp” alignment=”left”][/vc_column][/vc_row][vc_row][vc_column][vc_column_text css_animation=”fadeIn” font_size=”45″ font_family=”Roboto” font_weight=”500″ color=”#57529e”]\nDE NATIONALE VOORLEESDAGEN \n[/vc_column_text][vc_empty_space height=”10px”][vc_single_image image=”88″ img_size=”medium” css_animation=”fadeInUp” alignment=”left”][/vc_column][/vc_row][vc_row][vc_column][vc_column_text css=””]Speciaal voor baby’s\, peuters en kleuters zijn er De Nationale Voorleesdagen. Deze dagen hebben als doel het voorlezen aan kinderen die zelf nog niet kunnen lezen\, te bevorderen. Zo worden kleintjes grote lezers. Deze dagen worden georganiseerd om ouders te stimuleren om voor te gaan lezen. \n[/vc_column_text][/vc_column][/vc_row][vc_row][vc_column][vc_single_image image=”61″ css_animation=”fadeInUp” alignment=”left”][/vc_column][/vc_row][vc_row][vc_column width=”1/2″]Issuekalender doorzoeken [/vc_column][vc_column width=”1/2″][/vc_column][/vc_row]
URL:https://issuekalender.nl/issue/de-nationale-voorleesdagen-2/2029-01-22/
CATEGORIES:Onderwijs en educatie,Ontspanning en plezier
ORGANIZER;CN="Stichting Lezen en Stichting CPNB":MAILTO:info@cpnb.nl
END:VEVENT
BEGIN:VEVENT
DTSTART;VALUE=DATE:20290125
DTEND;VALUE=DATE:20290201
DTSTAMP:20260423T110557
CREATED:20231012T150157Z
LAST-MODIFIED:20241024T144905Z
UID:10008850-1863993600-1864598399@issuekalender.nl
SUMMARY:POËZIEWEEK
DESCRIPTION:[vc_row][vc_column][vc_single_image image=”61″ css_animation=”fadeInUp” alignment=”left”][/vc_column][/vc_row][vc_row][vc_column][vc_column_text css_animation=”fadeIn” font_size=”45″ font_family=”Roboto” font_weight=”500″ color=”#57529e”]\nPOËZIEWEEK \n[/vc_column_text][vc_empty_space height=”10px”][vc_single_image image=”88″ img_size=”medium” css_animation=”fadeInUp” alignment=”left”][/vc_column][/vc_row][vc_row][vc_column][vc_column_text css=””]\nPoëzieweek 2025: thema ‘lijfelijkheid’\nPoëzieweek\, hét poëziefeest van Vlaanderen en Nederland\, is er overal en voor iedereen! Van 30 januari t.e.m. 5 februari 2025 vieren we Poëzieweek 2025 in het thema ‘lijfelijkheid’.  Charlotte van den Broeck schrijft een handvol gloednieuwe gedichten rond dit thema\, die gebundeld worden in het Poëziegeschenk 2025.[/vc_column_text][/vc_column][/vc_row][vc_row][vc_column][vc_single_image image=”61″ css_animation=”fadeInUp” alignment=”left”][/vc_column][/vc_row][vc_row][vc_column width=”1/2″]Issuekalender doorzoeken [/vc_column][vc_column width=”1/2″][/vc_column][/vc_row]
URL:https://issuekalender.nl/issue/poezieweek-2/2029-01-25/
CATEGORIES:Kunst en cultuur
ORGANIZER;CN="De Po%C3%ABzieweek is een Nederlands-Vlaamse samenwerking van Po%C3%ABzieclub%2C Poetry International%2C Stichting Lezen Vlaanderen%2C Stichting Lezen Nederland%2C Wintertuin%2C Po%C3%ABziecentrum%2C Boek.be en Stichting CPNB.":MAILTO:info@cpnb.nl
END:VEVENT
BEGIN:VEVENT
DTSTART;VALUE=DATE:20290128
DTEND;VALUE=DATE:20290129
DTSTAMP:20260423T110557
CREATED:20230713T161948Z
LAST-MODIFIED:20240731T134111Z
UID:10006580-1864252800-1864339199@issuekalender.nl
SUMMARY:PRIVACY DAY
DESCRIPTION:[vc_row][vc_column][vc_single_image image=”61″ css_animation=”fadeInUp” alignment=”left”][/vc_column][/vc_row][vc_row][vc_column][vc_column_text css_animation=”fadeIn” font_size=”45″ font_family=”Roboto” font_weight=”500″ color=”#57529e”]\nPRIVACY DAY \n[/vc_column_text][vc_empty_space height=”10px”][vc_single_image image=”88″ img_size=”medium” css_animation=”fadeInUp” alignment=”left”][/vc_column][/vc_row][vc_row][vc_column][vc_column_text]De jaarlijkse Europese Dag van de Privacy (Dataprotectiedag) is in het leven geroepen door de Raad van Europa met steun van de Europese Commissie. Gekozen is voor 28 januari\, de dag waarop in 1981 het Dataprotectieverdrag werd geopend voor ondertekening. Het doel van deze dag is om Europese burgers beter te informeren over hun rechten betreffende het gebruik van hun persoonsgegevens door overheden\, bedrijven en andere organisaties.[/vc_column_text][/vc_column][/vc_row][vc_row][vc_column][vc_single_image image=”61″ css_animation=”fadeInUp” alignment=”left”][/vc_column][/vc_row][vc_row][vc_column width=”1/2″]Issuekalender doorzoeken [/vc_column][vc_column width=”1/2″][/vc_column][/vc_row]
URL:https://issuekalender.nl/issue/privacy-day/2029-01-28/
CATEGORIES:Mens en maatschappij,Veiligheid
END:VEVENT
BEGIN:VEVENT
DTSTART;VALUE=DATE:20290128
DTEND;VALUE=DATE:20290129
DTSTAMP:20260423T110557
CREATED:20231012T085902Z
LAST-MODIFIED:20241024T125204Z
UID:10006570-1864252800-1864339199@issuekalender.nl
SUMMARY:NATIONALE HOLOCAUST HERDENKING
DESCRIPTION:[vc_row][vc_column][vc_single_image image=”61″ css_animation=”fadeInUp” alignment=”left”][/vc_column][/vc_row][vc_row][vc_column][vc_column_text css_animation=”fadeIn” font_size=”45″ font_family=”Roboto” font_weight=”500″ color=”#57529e”]\nNATIONALE HOLOCAUST HERDENKING \n[/vc_column_text][vc_empty_space height=”10px”][vc_single_image image=”88″ img_size=”medium” css_animation=”fadeInUp” alignment=”left”][/vc_column][/vc_row][vc_row][vc_column][vc_column_text css=””]In 2005 riep Kofi Annan\, toenmalig secretaris-generaal van de Verenigde Naties\, de bevrijdingsdatum van Auschwitz uit tot een dag van herdenking. Wereldwijd worden de slachtoffers herdacht van de Holocaust en andere genociden zoals die in Cambodja\, Rwanda\, Srebrenica en Darfur. Auschwitz is uitgegroeid tot universeel symbool voor de massavernietiging van onschuldige burgers. De Nationale Auschwitz Herdenking is uitgebreid met de Holocaust Memorial Day. Rondom deze dag worden in Nederland door vele organisaties activiteiten georganiseerd. De activiteiten worden afgesloten met de Holocaust Memorial Day/Nationale Auschwitz Herdenking\, welke plaatsvindt op de laatste zondag in januari.[/vc_column_text][/vc_column][/vc_row][vc_row][vc_column][vc_single_image image=”61″ css_animation=”fadeInUp” alignment=”left”][/vc_column][/vc_row][vc_row][vc_column width=”1/2″]Issuekalender doorzoeken [/vc_column][vc_column width=”1/2″][/vc_column][/vc_row]
URL:https://issuekalender.nl/issue/nationale-holocaust-herdenking/2029-01-28/
CATEGORIES:Kunst en cultuur,Mens en maatschappij,Onderwijs en educatie,Sociale cohesie en integratie
ORGANIZER;CN="Nederlands Auschwitz Comit%C3%A9":MAILTO:info@holocaust-memorial-day.nl
END:VEVENT
BEGIN:VEVENT
DTSTART;VALUE=DATE:20290128
DTEND;VALUE=DATE:20290129
DTSTAMP:20260423T110557
CREATED:20231012T092152Z
LAST-MODIFIED:20240731T133222Z
UID:10006569-1864252800-1864339199@issuekalender.nl
SUMMARY:WERELDLEPRADAG
DESCRIPTION:[vc_row][vc_column][vc_single_image image=”61″ css_animation=”fadeInUp” alignment=”left”][/vc_column][/vc_row][vc_row][vc_column][vc_column_text css_animation=”fadeIn” font_size=”45″ font_family=”Roboto” font_weight=”500″ color=”#57529e”]\nWERELDLEPRADAG \n[/vc_column_text][vc_empty_space height=”10px”][vc_single_image image=”88″ img_size=”medium” css_animation=”fadeInUp” alignment=”left”][/vc_column][/vc_row][vc_row][vc_column][vc_column_text]Ieder jaar\, op de laatste zondag van januari\, wordt overal ter wereld stilgestaan bij de gevolgen van lepra.[/vc_column_text][/vc_column][/vc_row][vc_row][vc_column][vc_single_image image=”61″ css_animation=”fadeInUp” alignment=”left”][/vc_column][/vc_row][vc_row][vc_column width=”1/2″]Issuekalender doorzoeken [/vc_column][vc_column width=”1/2″][/vc_column][/vc_row]
URL:https://issuekalender.nl/issue/wereldlepradag-2/2029-01-28/
CATEGORIES:Welzijn en gezondheid
END:VEVENT
END:VCALENDAR