BEGIN:VCALENDAR
VERSION:2.0
PRODID:-//Issuekalender - ECPv6.9.0//NONSGML v1.0//EN
CALSCALE:GREGORIAN
METHOD:PUBLISH
X-ORIGINAL-URL:https://issuekalender.nl
X-WR-CALDESC:Evenementen voor Issuekalender
REFRESH-INTERVAL;VALUE=DURATION:PT1H
X-Robots-Tag:noindex
X-PUBLISHED-TTL:PT1H
BEGIN:VTIMEZONE
TZID:Europe/Amsterdam
BEGIN:DAYLIGHT
TZOFFSETFROM:+0100
TZOFFSETTO:+0200
TZNAME:CEST
DTSTART:20280326T010000
END:DAYLIGHT
BEGIN:STANDARD
TZOFFSETFROM:+0200
TZOFFSETTO:+0100
TZNAME:CET
DTSTART:20281029T010000
END:STANDARD
END:VTIMEZONE
BEGIN:VEVENT
DTSTART;VALUE=DATE:20281210
DTEND;VALUE=DATE:20281211
DTSTAMP:20260423T073119
CREATED:20230717T105946Z
LAST-MODIFIED:20241001T090028Z
UID:10006833-1860019200-1860105599@issuekalender.nl
SUMMARY:DAG VAN DE RECHTEN VAN DE MENS (VN)
DESCRIPTION:[vc_row][vc_column][vc_single_image image=”61″ css_animation=”fadeInUp” alignment=”left”][/vc_column][/vc_row][vc_row][vc_column][vc_column_text css_animation=”fadeIn” font_size=”45″ font_family=”Roboto” font_weight=”500″ color=”#57529e”]\nDAG VAN DE RECHTEN VAN DE MENS (VN) \n[/vc_column_text][vc_empty_space height=”10px”][vc_single_image image=”88″ img_size=”medium” css_animation=”fadeInUp” alignment=”left”][/vc_column][/vc_row][vc_row][vc_column][vc_column_text]De Dag van de Rechten van de Mens wordt elk jaar gevierd op 10 december omdat op die dag in 1948 de Universele Verklaring van de Rechten van de Mens werd aangenomen door de Algemene vergadering van de Verenigde Naties. Sindsdien worden op deze dag de dertig mensenrechten onder de aandacht gebracht.[/vc_column_text][/vc_column][/vc_row][vc_row][vc_column][vc_single_image image=”61″ css_animation=”fadeInUp” alignment=”left”][/vc_column][/vc_row][vc_row][vc_column width=”1/2″]Issuekalender doorzoeken [/vc_column][vc_column width=”1/2″][/vc_column][/vc_row]
URL:https://issuekalender.nl/issue/dag-van-de-rechten-van-de-mens-vn/2028-12-10/
CATEGORIES:Overige
END:VEVENT
BEGIN:VEVENT
DTSTART;VALUE=DATE:20281210
DTEND;VALUE=DATE:20281211
DTSTAMP:20260423T073119
CREATED:20230717T110041Z
LAST-MODIFIED:20241024T144220Z
UID:10008838-1860019200-1860105599@issuekalender.nl
SUMMARY:WERELDLICHTJESDAG
DESCRIPTION:[vc_row][vc_column][vc_single_image image=”61″ css_animation=”fadeInUp” alignment=”left”][/vc_column][/vc_row][vc_row][vc_column][vc_column_text css_animation=”fadeIn” font_size=”45″ font_family=”Roboto” font_weight=”500″ color=”#57529e”]\nWERELDLICHTJESDAG \n[/vc_column_text][vc_empty_space height=”10px”][vc_single_image image=”88″ img_size=”medium” css_animation=”fadeInUp” alignment=”left”][/vc_column][/vc_row][vc_row][vc_column][vc_column_text]Op Wereldlichtjesdag kan iedereen overleden kinderen eren en herinneren door een kaarsje te branden\, te luisteren naar muziek\, troostende woorden en gedichten. Een speciaal geschreven lied wordt op deze dag ten gehore gebracht. World Wide Candle Lighting is ontstaan in 1997 in Amerika\, door The Compassionate Friends. Inmiddels worden er nu over de hele wereld op de tweede zondag van december om 19.00 uur lokale tijd kaarsen gebrand voor overleden kinderen. De dag is elk jaar op de tweede zondag van december.[/vc_column_text][/vc_column][/vc_row][vc_row][vc_column][vc_single_image image=”61″ css_animation=”fadeInUp” alignment=”left”][/vc_column][/vc_row][vc_row][vc_column width=”1/2″]Issuekalender doorzoeken [/vc_column][vc_column width=”1/2″][/vc_column][/vc_row]
URL:https://issuekalender.nl/issue/wereldlichtjesdag/2028-12-10/
CATEGORIES:Mens en maatschappij
ORGANIZER;CN="Amelius.nl en jettykuiper.nl":MAILTO:info@wereldlichtjesdag.nl
END:VEVENT
BEGIN:VEVENT
DTSTART;VALUE=DATE:20281210
DTEND;VALUE=DATE:20281211
DTSTAMP:20260423T073119
CREATED:20251125T145500Z
LAST-MODIFIED:20251125T145511Z
UID:10009591-1860019200-1860105599@issuekalender.nl
SUMMARY:Sankta Lucia
DESCRIPTION:[vc_row][vc_column][vc_single_image image=”61″ css_animation=”fadeInUp” alignment=”left”][/vc_column][/vc_row][vc_row][vc_column][vc_column_text css_animation=”fadeIn” font_size=”45″ font_family=”Roboto” font_weight=”500″ color=”#57529e”]\nSankta Lucia \n[/vc_column_text][vc_empty_space height=”10px”][vc_single_image image=”88″ img_size=”medium” css_animation=”fadeInUp” alignment=”left”][/vc_column][/vc_row][vc_row][vc_column][vc_column_text]Sankta Lucia\, gevierd op 13 december\, is een belangrijk lichtfeest in Zweden en andere Scandinavische landen. Het markeert de komst van het licht in de donkere winterperiode en is genoemd naar Sint Lucia van Syracuse\, een christelijke martelares. Het feest combineert christelijke en Scandinavische wintertradities en is een van de meest geliefde ceremonies van het seizoen. \n[/vc_column_text][/vc_column][/vc_row][vc_row][vc_column][vc_single_image image=”61″ css_animation=”fadeInUp” alignment=”left”][/vc_column][/vc_row][vc_row][vc_column width=”1/2″]Issuekalender doorzoeken [/vc_column][vc_column width=”1/2″][/vc_column][/vc_row]
URL:https://issuekalender.nl/issue/sankta-lucia/2028-12-10/
CATEGORIES:Mens en maatschappij
END:VEVENT
END:VCALENDAR