BEGIN:VCALENDAR
VERSION:2.0
PRODID:-//Issuekalender - ECPv6.9.0//NONSGML v1.0//EN
CALSCALE:GREGORIAN
METHOD:PUBLISH
X-WR-CALNAME:Issuekalender
X-ORIGINAL-URL:https://issuekalender.nl
X-WR-CALDESC:Evenementen voor Issuekalender
REFRESH-INTERVAL;VALUE=DURATION:PT1H
X-Robots-Tag:noindex
X-PUBLISHED-TTL:PT1H
BEGIN:VTIMEZONE
TZID:Europe/Amsterdam
BEGIN:DAYLIGHT
TZOFFSETFROM:+0100
TZOFFSETTO:+0200
TZNAME:CEST
DTSTART:20280326T010000
END:DAYLIGHT
BEGIN:STANDARD
TZOFFSETFROM:+0200
TZOFFSETTO:+0100
TZNAME:CET
DTSTART:20281029T010000
END:STANDARD
END:VTIMEZONE
BEGIN:VEVENT
DTSTART;VALUE=DATE:20281205
DTEND;VALUE=DATE:20281206
DTSTAMP:20260423T073121
CREATED:20230717T104509Z
LAST-MODIFIED:20251111T095658Z
UID:10009116-1859587200-1859673599@issuekalender.nl
SUMMARY:#GIVINGTUESDAYNL
DESCRIPTION:[vc_row][vc_column][vc_single_image image=”61″ css_animation=”fadeInUp” alignment=”left”][/vc_column][/vc_row][vc_row][vc_column][vc_column_text css_animation=”fadeIn” font_size=”45″ font_family=”Roboto” font_weight=”500″ color=”#57529e”]\n#GIVINGTUESDAYNL \n[/vc_column_text][vc_empty_space height=”10px”][vc_single_image image=”88″ img_size=”medium” css_animation=”fadeInUp” alignment=”left”][/vc_column][/vc_row][vc_row][vc_column][vc_column_text]Een nationale dag om goed te doen. Na black friday en cyber monday een dag om iets voor een ander over te hebben. Iedereen\, particulieren\, goede doelen\, bedrijven\, serviceclubs\, scholen\, sport- en buurtverenigingen kunnen op die dag (en de dagen daarvoor) een vrijwilligersactie organiseren\, spullen inzamelen voor een nuttige bestemming of geld inzamelen voor een goed doel. Giving Tuesday is een wereldwijd moment om te laten zien dat we echt wel wat voor elkaar over hebben. \n  \n#GivingTuesday wordt jaarlijks gehouden op de eerste dinsdag na Thanksgiving\, Black Friday en Cyber Monday.[/vc_column_text][/vc_column][/vc_row][vc_row][vc_column][vc_single_image image=”61″ css_animation=”fadeInUp” alignment=”left”][/vc_column][/vc_row][vc_row][vc_column width=”1/2″]Issuekalender doorzoeken [/vc_column][vc_column width=”1/2″][/vc_column][/vc_row]
URL:https://issuekalender.nl/issue/givingtuesdaynl/2028-12-05/
CATEGORIES:Mens en maatschappij
ORGANIZER;CN="givingtuesday.org/global":MAILTO:theo@givingtuesday.nl
END:VEVENT
BEGIN:VEVENT
DTSTART;VALUE=DATE:20281205
DTEND;VALUE=DATE:20281206
DTSTAMP:20260423T073121
CREATED:20230717T105556Z
LAST-MODIFIED:20240814T141609Z
UID:10006622-1859587200-1859673599@issuekalender.nl
SUMMARY:WERELDBODEMDAG
DESCRIPTION:[vc_row][vc_column][vc_single_image image=”61″ css_animation=”fadeInUp” alignment=”left”][/vc_column][/vc_row][vc_row][vc_column][vc_column_text css_animation=”fadeIn” font_size=”45″ font_family=”Roboto” font_weight=”500″ color=”#57529e”]\nWERELDBODEMDAG \n[/vc_column_text][vc_empty_space height=”10px”][vc_single_image image=”88″ img_size=”medium” css_animation=”fadeInUp” alignment=”left”][/vc_column][/vc_row][vc_row][vc_column][vc_column_text]World Soil Day is jaarlijks op 5 december. Deze bewustmakingsdag van de Voedsel- en Landbouworganisatie van de Verenigde Naties (FAO)\, wordt gewoonlijk elk jaar op dezelfde datum gehouden. Het evenement heeft tot doel het bewustzijn te vergroten van het belang van bodemkwaliteit voor het menselijk welzijn\, voedselzekerheid en ecosystemen. Er worden evenementen gehouden in de kantoren van de VN\, FAO en er zijn gemeenschapsevenementen. De dag werd in 2002 voor het eerst op de kaart gezet door de International Union of Soil Sciences\, maar werd pas in 2013 officieel goedgekeurd door de FAO.[/vc_column_text][/vc_column][/vc_row][vc_row][vc_column][vc_single_image image=”61″ css_animation=”fadeInUp” alignment=”left”][/vc_column][/vc_row][vc_row][vc_column width=”1/2″]Issuekalender doorzoeken [/vc_column][vc_column width=”1/2″][/vc_column][/vc_row]
URL:https://issuekalender.nl/issue/wereldbodemdag/2028-12-05/
CATEGORIES:Milieu en duurzaamheid,Welzijn en gezondheid
END:VEVENT
END:VCALENDAR