BEGIN:VCALENDAR
VERSION:2.0
PRODID:-//Issuekalender - ECPv6.9.0//NONSGML v1.0//EN
CALSCALE:GREGORIAN
METHOD:PUBLISH
X-ORIGINAL-URL:https://issuekalender.nl
X-WR-CALDESC:Evenementen voor Issuekalender
REFRESH-INTERVAL;VALUE=DURATION:PT1H
X-Robots-Tag:noindex
X-PUBLISHED-TTL:PT1H
BEGIN:VTIMEZONE
TZID:Europe/Amsterdam
BEGIN:DAYLIGHT
TZOFFSETFROM:+0100
TZOFFSETTO:+0200
TZNAME:CEST
DTSTART:20280326T010000
END:DAYLIGHT
BEGIN:STANDARD
TZOFFSETFROM:+0200
TZOFFSETTO:+0100
TZNAME:CET
DTSTART:20281029T010000
END:STANDARD
END:VTIMEZONE
BEGIN:VEVENT
DTSTART;VALUE=DATE:20281105
DTEND;VALUE=DATE:20281205
DTSTAMP:20260423T110550
CREATED:20251112T134825Z
LAST-MODIFIED:20251112T134825Z
UID:10009301-1856995200-1859587199@issuekalender.nl
SUMMARY:HEEL NEDERLAND LEEST
DESCRIPTION:[vc_row][vc_column][vc_single_image image=”61″ css_animation=”fadeInUp” alignment=”left”][/vc_column][/vc_row][vc_row][vc_column][vc_column_text css_animation=”fadeIn” font_size=”45″ font_family=”Roboto” font_weight=”500″ color=”#57529e”]\nNEDERLAND LEEST \n[/vc_column_text][vc_empty_space height=”10px”][vc_single_image image=”88″ img_size=”medium” css_animation=”fadeInUp” alignment=”left”][/vc_column][/vc_row][vc_row][vc_column][vc_column_text]Nederland Leest is een evenement ter bevordering van het lezen van boeken. Het vindt sinds 2006 jaarlijks plaats in de hele maand november. Het wordt georganiseerd door de Stichting Collectieve Propaganda van het Nederlandse Boek (CPNB). Lokale bibliotheken verspreid over heel Nederland hebben dat het jaarlijks wisselend boekje en allerlei evenementen en activiteiten.[/vc_column_text][/vc_column][/vc_row][vc_row][vc_column][vc_single_image image=”61″ css_animation=”fadeInUp” alignment=”left”][/vc_column][/vc_row][vc_row][vc_column width=”1/2″]Issuekalender doorzoeken [/vc_column][vc_column width=”1/2″][/vc_column][/vc_row]
URL:https://issuekalender.nl/issue/heel-nederland-leest-2/2028-11-05/
CATEGORIES:Kunst en cultuur
END:VEVENT
BEGIN:VEVENT
DTSTART;VALUE=DATE:20281127
DTEND;VALUE=DATE:20281204
DTSTAMP:20260423T110550
CREATED:20230717T104400Z
LAST-MODIFIED:20251125T121313Z
UID:10009499-1858896000-1859500799@issuekalender.nl
SUMMARY:COLLECTE LEGER DES HEILS FONDSENWERVING
DESCRIPTION:[vc_row][vc_column][vc_single_image image=”61″ css_animation=”fadeInUp” alignment=”left”][/vc_column][/vc_row][vc_row][vc_column][vc_column_text css_animation=”fadeIn” font_size=”45″ font_family=”Roboto” font_weight=”500″ color=”#57529e”]\nCOLLECTE LEGER DES HEILS FONDSENWERVING \n[/vc_column_text][vc_empty_space height=”10px”][vc_single_image image=”88″ img_size=”medium” css_animation=”fadeInUp” alignment=”left”][/vc_column][/vc_row][vc_row][vc_column][vc_column_text]1 op de 10 Nederlanders is sterk eenzaam. Eenzaamheid en armoede gaan vaak hand in hand: je hebt geen geld om met iemand een kopje koffie te gaan drinken\, dus blijf je maar thuis. Het Leger des Heils heeft meer dan 100 buurthuiskamers door heel Nederland\, waar de koffie gratis is en we mensen een plek geven om thuis te komen. Collecteer of doneer en help mee om deze belangrijke plekken in stand te houden en uit te breiden. Samen tegen eenzaamheid![/vc_column_text][/vc_column][/vc_row][vc_row][vc_column][vc_single_image image=”61″ css_animation=”fadeInUp” alignment=”left”][/vc_column][/vc_row][vc_row][vc_column width=”1/2″]Issuekalender doorzoeken [/vc_column][vc_column width=”1/2″][/vc_column][/vc_row]
URL:https://issuekalender.nl/issue/collecte-leger-des-heils-fondsenwerving/2028-11-27/
CATEGORIES:Mens en maatschappij
ORGANIZER;CN="Leger des Heils":MAILTO:actie@reshare.nl
END:VEVENT
BEGIN:VEVENT
DTSTART;VALUE=DATE:20281202
DTEND;VALUE=DATE:20281203
DTSTAMP:20260423T110550
CREATED:20230717T105250Z
LAST-MODIFIED:20240814T142247Z
UID:10006614-1859328000-1859414399@issuekalender.nl
SUMMARY:INTERNATIONALE DAG VAN DE AFSCHAFFING VAN DE SLAVERNIJ (VN)
DESCRIPTION:[vc_row][vc_column][vc_single_image image=”61″ css_animation=”fadeInUp” alignment=”left”][/vc_column][/vc_row][vc_row][vc_column][vc_column_text css_animation=”fadeIn” font_size=”45″ font_family=”Roboto” font_weight=”500″ color=”#57529e”]\nINTERNATIONALE DAG VAN DE AFSCHAFFING VAN DE SLAVERNIJ (VN) \n[/vc_column_text][vc_empty_space height=”10px”][vc_single_image image=”88″ img_size=”medium” css_animation=”fadeInUp” alignment=”left”][/vc_column][/vc_row][vc_row][vc_column][vc_column_text]Op 2 december 1949 werd de resolutie ter afschaffing van mensenhandel aangenomen door de Algemene Vergadering van de Verenigde Naties. Jaarlijks wordt op deze dag de afschaffing van slavernij gevierd. \nDe dag is ook gericht op het uitbannen van moderne vormen van slavernij\, zoals mensenhandel\, seksuele uitbuiting\, kinderarbeid\, gedwongen huwelijken en de gedwongen inzet van kinderen in gewapende conflicten. Nog steeds zitten 21 miljoen vrouwen\, mannen en kinderen gevangen in slavernij over de gehele wereld.[/vc_column_text][/vc_column][/vc_row][vc_row][vc_column][vc_single_image image=”61″ css_animation=”fadeInUp” alignment=”left”][/vc_column][/vc_row][vc_row][vc_column width=”1/2″]Issuekalender doorzoeken [/vc_column][vc_column width=”1/2″][/vc_column][/vc_row]
URL:https://issuekalender.nl/issue/internationale-dag-van-de-afschaffing-van-de-slavernij-vn/2028-12-02/
CATEGORIES:Mens en maatschappij
END:VEVENT
END:VCALENDAR