BEGIN:VCALENDAR
VERSION:2.0
PRODID:-//Issuekalender - ECPv6.9.0//NONSGML v1.0//EN
CALSCALE:GREGORIAN
METHOD:PUBLISH
X-WR-CALNAME:Issuekalender
X-ORIGINAL-URL:https://issuekalender.nl
X-WR-CALDESC:Evenementen voor Issuekalender
REFRESH-INTERVAL;VALUE=DURATION:PT1H
X-Robots-Tag:noindex
X-PUBLISHED-TTL:PT1H
BEGIN:VTIMEZONE
TZID:Europe/Amsterdam
BEGIN:DAYLIGHT
TZOFFSETFROM:+0100
TZOFFSETTO:+0200
TZNAME:CEST
DTSTART:20280326T010000
END:DAYLIGHT
BEGIN:STANDARD
TZOFFSETFROM:+0200
TZOFFSETTO:+0100
TZNAME:CET
DTSTART:20281029T010000
END:STANDARD
END:VTIMEZONE
BEGIN:VEVENT
DTSTART;VALUE=DATE:20281001
DTEND;VALUE=DATE:20281201
DTSTAMP:20260423T093540
CREATED:20251125T120428Z
LAST-MODIFIED:20251125T120429Z
UID:10008177-1853971200-1859241599@issuekalender.nl
SUMMARY:HET VERGETEN PLANTSEIZOEN
DESCRIPTION:[vc_row][vc_column][vc_single_image image=”61″ css_animation=”fadeInUp” alignment=”left”][/vc_column][/vc_row][vc_row][vc_column][vc_column_text css_animation=”fadeIn” font_size=”45″ font_family=”Roboto” font_weight=”500″ color=”#57529e”]\nHET VERGETEN PLANTSEIZOEN \n[/vc_column_text][vc_empty_space height=”10px”][vc_single_image image=”88″ img_size=”medium” css_animation=”fadeInUp” alignment=”left”][/vc_column][/vc_row][vc_row][vc_column][vc_column_text css=””]Wist je dat het najaar het ideale moment is om te planten? Sinds de laatste 30 jaar tuinieren we voornamelijk in de lente. Dat is een gemiste kans\, want het najaar is perfect voor de aanplant en andere werkzaamheden in de tuin. En daarom organiseert NL Vergroent ook dit jaar ‘Het Vergeten Plantseizoen’ in oktober en november. Dan is de grond nog warm genoeg![/vc_column_text][/vc_column][/vc_row][vc_row][vc_column][vc_single_image image=”61″ css_animation=”fadeInUp” alignment=”left”][/vc_column][/vc_row][vc_row][vc_column width=”1/2″]Issuekalender doorzoeken [/vc_column][vc_column width=”1/2″][/vc_column][/vc_row]
URL:https://issuekalender.nl/issue/het-vergeten-plantseizoen-2/2028-10-01/
CATEGORIES:Milieu en duurzaamheid
ORGANIZER;CN="Stichting Steenbreek":MAILTO:info@steenbreek.nl
END:VEVENT
BEGIN:VEVENT
DTSTART;VALUE=DATE:20281101
DTEND;VALUE=DATE:20281201
DTSTAMP:20260423T093540
CREATED:20230717T072301Z
LAST-MODIFIED:20241002T095951Z
UID:10007049-1856649600-1859241599@issuekalender.nl
SUMMARY:MOVEMBER
DESCRIPTION:[vc_row][vc_column][vc_single_image image=”61″ css_animation=”fadeInUp” alignment=”left”][/vc_column][/vc_row][vc_row][vc_column][vc_column_text css_animation=”fadeIn” font_size=”45″ font_family=”Roboto” font_weight=”500″ color=”#57529e”]\nMOVEMBER \n[/vc_column_text][vc_empty_space height=”10px”][vc_single_image image=”88″ img_size=”medium” css_animation=”fadeInUp” alignment=”left”][/vc_column][/vc_row][vc_row][vc_column][vc_column_text]Achtergrond Movember\nMovember werd in 2003 in Australië opgericht om geld in te zamelen voor prostaat- en teelbalkankeronderzoek. Via de VS en het VK bereikte de stichting ook Nederland\, waar nu duizenden mannen in de maand november hun Movembersnor laten staan. Zij zamelen hiermee geld in\, dat vervolgens door Movember aan onderzoek wordt gedoneerd. Fondsen die worden opgehaald in Nederland worden ook uitgegeven in Nederland. 70% van de ingezamelde gelden wordt besteed aan KWF-Movember onderzoeksprojecten naar teelbal- en prostaatkanker. \nNaast prostaat- en teelbalkankeronderzoek besteedt Movember steeds meer aandacht aan de mentale gezondheid van de man. Volgens Movember krijgt één op de acht mannen in hun leven te maken met prostaatkanker\, komt teelbalkanker vaker voor bij mannen tussen de 18 en 40 dan bij andere leeftijdscategorieën en is wereldwijd 75% van de slachtoffers van zelfdoding man.[/vc_column_text][/vc_column][/vc_row][vc_row][vc_column][vc_single_image image=”61″ css_animation=”fadeInUp” alignment=”left”][/vc_column][/vc_row][vc_row][vc_column width=”1/2″]Issuekalender doorzoeken [/vc_column][vc_column width=”1/2″][/vc_column][/vc_row]
URL:https://issuekalender.nl/issue/movember/2028-11-01/
CATEGORIES:Mens en maatschappij,Welzijn en gezondheid
ORGANIZER;CN="Movember Foundation":MAILTO:netherlands@movember.com
END:VEVENT
BEGIN:VEVENT
DTSTART;VALUE=DATE:20281101
DTEND;VALUE=DATE:20281201
DTSTAMP:20260423T093540
CREATED:20251112T134808Z
LAST-MODIFIED:20251112T134808Z
UID:10007045-1856649600-1859241599@issuekalender.nl
SUMMARY:MAAND VAN HMB (HEVIG MENSTRUEEL BLOEDVERLIES)
DESCRIPTION:[vc_row][vc_column][vc_single_image image=”61″ css_animation=”fadeInUp” alignment=”left”][/vc_column][/vc_row][vc_row][vc_column][vc_column_text css_animation=”fadeIn” font_size=”45″ font_family=”Roboto” font_weight=”500″ color=”#57529e”]\nMAAND VAN HMB (HEVIG MENSTRUEEL BLOEDVERLIES) \n[/vc_column_text][vc_empty_space height=”10px”][vc_single_image image=”88″ img_size=”medium” css_animation=”fadeInUp” alignment=”left”][/vc_column][/vc_row][vc_row][vc_column][vc_column_text]November = campagnemaand Bloedserieus. De voorlichtingscampagne Bloedserieus informeert over de oorzaken en behandelopties bij hevig menstrueel bloedverlies (HMB). Ongeveer 1 op de 5 vrouwen tussen de 35 en 55 jaar heeft HMB. Te veel vrouwen lopen door met deze medisch erkende aandoening\, met onnodige gezondheidsrisco’s als gevolg. Aan HMB kan namelijk ook een ander medisch probleem ten grondslag liggen\, zoals een stollingsstoornis\, endometriose\, PCOS\, een infectie of gynaecologische kanker. Daarbij heeft HMB nadelige invloed op de kwaliteit van leven\, lichamelijk (ijzertekort)\, psychisch (angst voor doorlekken) en sociaal (afspraken afzeggen\, verzuim van werk).[/vc_column_text][/vc_column][/vc_row][vc_row][vc_column][vc_single_image image=”61″ css_animation=”fadeInUp” alignment=”left”][/vc_column][/vc_row][vc_row][vc_column width=”1/2″]Issuekalender doorzoeken [/vc_column][vc_column width=”1/2″][/vc_column][/vc_row]
URL:https://issuekalender.nl/issue/maand-van-hmb-hevig-menstrueel-bloedverlies-2/2028-11-01/
CATEGORIES:Overige,Welzijn en gezondheid
ORGANIZER;CN="Hologic Benelux":MAILTO:info@period.media
END:VEVENT
BEGIN:VEVENT
DTSTART;VALUE=DATE:20281105
DTEND;VALUE=DATE:20281205
DTSTAMP:20260423T093540
CREATED:20251112T134825Z
LAST-MODIFIED:20251112T134825Z
UID:10009301-1856995200-1859587199@issuekalender.nl
SUMMARY:HEEL NEDERLAND LEEST
DESCRIPTION:[vc_row][vc_column][vc_single_image image=”61″ css_animation=”fadeInUp” alignment=”left”][/vc_column][/vc_row][vc_row][vc_column][vc_column_text css_animation=”fadeIn” font_size=”45″ font_family=”Roboto” font_weight=”500″ color=”#57529e”]\nNEDERLAND LEEST \n[/vc_column_text][vc_empty_space height=”10px”][vc_single_image image=”88″ img_size=”medium” css_animation=”fadeInUp” alignment=”left”][/vc_column][/vc_row][vc_row][vc_column][vc_column_text]Nederland Leest is een evenement ter bevordering van het lezen van boeken. Het vindt sinds 2006 jaarlijks plaats in de hele maand november. Het wordt georganiseerd door de Stichting Collectieve Propaganda van het Nederlandse Boek (CPNB). Lokale bibliotheken verspreid over heel Nederland hebben dat het jaarlijks wisselend boekje en allerlei evenementen en activiteiten.[/vc_column_text][/vc_column][/vc_row][vc_row][vc_column][vc_single_image image=”61″ css_animation=”fadeInUp” alignment=”left”][/vc_column][/vc_row][vc_row][vc_column width=”1/2″]Issuekalender doorzoeken [/vc_column][vc_column width=”1/2″][/vc_column][/vc_row]
URL:https://issuekalender.nl/issue/heel-nederland-leest-2/2028-11-05/
CATEGORIES:Kunst en cultuur
END:VEVENT
BEGIN:VEVENT
DTSTART;VALUE=DATE:20281113
DTEND;VALUE=DATE:20281120
DTSTAMP:20260423T093540
CREATED:20230717T074724Z
LAST-MODIFIED:20241002T082442Z
UID:10006977-1857686400-1858291199@issuekalender.nl
SUMMARY:WEEK VAN RESPECT
DESCRIPTION:[vc_row][vc_column][vc_single_image image=”61″ css_animation=”fadeInUp” alignment=”left”][/vc_column][/vc_row][vc_row][vc_column][vc_column_text css_animation=”fadeIn” font_size=”45″ font_family=”Roboto” font_weight=”500″ color=”#57529e”]\nWEEK VAN RESPECT \n[/vc_column_text][vc_empty_space height=”10px”][vc_single_image image=”88″ img_size=”medium” css_animation=”fadeInUp” alignment=”left”][/vc_column][/vc_row][vc_row][vc_column][vc_column_text]Iedere tweede week in november vindt jaarlijks de Week van Respect plaats. Een initiatief dat wordt gedragen door docenten\, leerkrachten\, leerlingen\, schoolleiders\, vrijwilligers en gemeenten. Ook vele politici\, sporters\, PABO-studenten en artiesten ondersteunen de Week actief door gastlessen te geven op scholen. Het doel van de Week van Respect is een bijdrage leveren aan sociale veiligheid\, in de klas\, op school en in de buurt. Daarbij staat het persoonlijke verhaal centraal. Door ervaringen te delen leer je de ander kennen en komt verbinding tot stand\, een voorwaarde voor wederzijds begrip en respect. \nIn de Week van Respect wordt zichtbaar hoe iedereen een bijdrage kan leveren aan een omgeving waarin je je thuis voelt en geaccepteerd wordt zoals je bent\, ongeacht afkomst\, geloofsovertuiging\, sekse of huidskleur. De Week van Respect wordt al sinds 2006 georganiseerd. In totaal bereikten ze al 1.7 miljoen jongeren. Ze werkten samen met 200 gemeenten\, duizenden gastsprekers\, 14 nationale sportbonden en duizenden scholen/klassen (po\, vo\,mbo) in heel Nederland.[/vc_column_text][/vc_column][/vc_row][vc_row][vc_column][vc_single_image image=”61″ css_animation=”fadeInUp” alignment=”left”][/vc_column][/vc_row][vc_row][vc_column width=”1/2″]Issuekalender doorzoeken [/vc_column][vc_column width=”1/2″][/vc_column][/vc_row]
URL:https://issuekalender.nl/issue/week-van-respect/2028-11-13/
CATEGORIES:Mens en maatschappij
ORGANIZER;CN="Respect Foundation":MAILTO:info@respectfoundation.nl
END:VEVENT
BEGIN:VEVENT
DTSTART;VALUE=DATE:20281119
DTEND;VALUE=DATE:20281120
DTSTAMP:20260423T093541
CREATED:20230717T103114Z
LAST-MODIFIED:20241001T180032Z
UID:10006920-1858204800-1858291199@issuekalender.nl
SUMMARY:INTERNATIONALE MANNENDAG
DESCRIPTION:[vc_row][vc_column][vc_single_image image=”61″ css_animation=”fadeInUp” alignment=”left”][/vc_column][/vc_row][vc_row][vc_column][vc_column_text css_animation=”fadeIn” font_size=”45″ font_family=”Roboto” font_weight=”500″ color=”#57529e”]\nINTERNATIONALE MANNENDAG \n[/vc_column_text][vc_empty_space height=”10px”][vc_single_image image=”88″ img_size=”medium” css_animation=”fadeInUp” alignment=”left”][/vc_column][/vc_row][vc_row][vc_column][vc_column_text]De Internationale Mannendag op 19 november is een jaarlijks wereldwijd initiatief met als doel: het promoten van positieve rolmodellen; het onder de aandacht brengen van discriminatie van mannen; het verbeteren van de man-vrouw relatie; het bevorderen van gelijkwaardigheid tussen mannen en vrouwen en het erkennen van positieve mannelijke bijdragen aan de samenleving\, familie\, kinderzorg\, huwelijk en milieu.[/vc_column_text][/vc_column][/vc_row][vc_row][vc_column][vc_single_image image=”61″ css_animation=”fadeInUp” alignment=”left”][/vc_column][/vc_row][vc_row][vc_column width=”1/2″]Issuekalender doorzoeken [/vc_column][vc_column width=”1/2″][/vc_column][/vc_row]
URL:https://issuekalender.nl/issue/internationale-mannendag/2028-11-19/
CATEGORIES:Mens en maatschappij
END:VEVENT
BEGIN:VEVENT
DTSTART;VALUE=DATE:20281119
DTEND;VALUE=DATE:20281120
DTSTAMP:20260423T093541
CREATED:20251112T135700Z
LAST-MODIFIED:20251112T135701Z
UID:10006904-1858204800-1858291199@issuekalender.nl
SUMMARY:HERDENKING VERKEERSSLACHTOFFERS (VN)
DESCRIPTION:[vc_row][vc_column][vc_single_image image=”61″ css_animation=”fadeInUp” alignment=”left”][/vc_column][/vc_row][vc_row][vc_column][vc_column_text css_animation=”fadeIn” font_size=”45″ font_family=”Roboto” font_weight=”500″ color=”#57529e”]\nHERDENKING VERKEERSSLACHTOFFERS (VN) \n[/vc_column_text][vc_empty_space height=”10px”][vc_single_image image=”88″ img_size=”medium” css_animation=”fadeInUp” alignment=”left”][/vc_column][/vc_row][vc_row][vc_column][vc_column_text]Jaarlijks wordt er wereldwijd op de derde zondag van November een herdenking georganiseerd. Dit initiatief gaat uit van de internationale organisatie FEVR (Fédération Européenne des Victimes de la Route). Dat betekent\, dat alle aangesloten landen hun verkeersslachtoffers herdenken op dezelfde dag! Ook in Nederland.[/vc_column_text][/vc_column][/vc_row][vc_row][vc_column][vc_single_image image=”61″ css_animation=”fadeInUp” alignment=”left”][/vc_column][/vc_row][vc_row][vc_column width=”1/2″]Issuekalender doorzoeken [/vc_column][vc_column width=”1/2″][/vc_column][/vc_row]
URL:https://issuekalender.nl/issue/herdenking-verkeersslachtoffers-vn-2/2028-11-19/
CATEGORIES:Verkeer en vervoer
ORGANIZER;CN="Vereniging Verkeersslachtoffers":MAILTO:info@verkeersslachtoffers.nl
END:VEVENT
BEGIN:VEVENT
DTSTART;VALUE=DATE:20281119
DTEND;VALUE=DATE:20281124
DTSTAMP:20260423T093541
CREATED:20230717T100806Z
LAST-MODIFIED:20251117T115249Z
UID:10009468-1858204800-1858636799@issuekalender.nl
SUMMARY:WEEK VAN HET COUVEUSEKIND
DESCRIPTION:[vc_row][vc_column][vc_single_image image=”61″ css_animation=”fadeInUp” alignment=”left”][/vc_column][/vc_row][vc_row][vc_column][vc_column_text css_animation=”fadeIn” font_size=”45″ font_family=”Roboto” font_weight=”500″ color=”#57529e”]\nWEEK VAN HET COUVEUSEKIND \n[/vc_column_text][vc_empty_space height=”10px”][vc_single_image image=”88″ img_size=”medium” css_animation=”fadeInUp” alignment=”left”][/vc_column][/vc_row][vc_row][vc_column][vc_column_text]\n\nCare4Neo (voorheen Vereniging van Ouders van Couveusekinderen – VOC) behartigt de belangen van ouders waarvan het kind direct na de geboorte wordt opgenomen in een ziekenhuis. Ouders met een prematuur zijn\, in een nieuwe en spannende fase van hun leven\, erg geholpen met heldere en toegankelijke informatie en steun. Onze vrijwilligers staan daarom klaar voor ouders met te vroeg\, te licht (dysmatuur) of ziek geboren baby’s. Dit doen we al meer dan 40 jaar op verschillende manieren. Bijvoorbeeld door te lobbyen in de politiek\, samen te werken met zorgprofessionals en onderzoekers\, vrijwilligers in te zetten in ziekenhuizen\, vertegenwoordigd te zijn in de EFCNI\, en met onze eigen activiteiten diensten zoals het gratis couveusedagboek en ons jaarlijkse Week van het Couveusekind rondom Wereld Prematuren Dag. \nCare4Neo is de oudste neonatologie-patiëntenvereniging van Europa. Wij hebben als doel ouders van couveusekinderen een steuntje in de rug te geven en aandacht te vragen voor de problematiek die hier rondom plaatsvindt. Onder couveusekinderen worden verstaan te vroeggeboren (prematuur) te licht geboren (dysmatuur) en ziek geboren kinderen. \n\nDe Week van het Couveusekind wordt ieder jaar rondom de Wereld Prematurendag (17 november) georganiseerd. \n[/vc_column_text][/vc_column][/vc_row][vc_row][vc_column][vc_single_image image=”61″ css_animation=”fadeInUp” alignment=”left”][/vc_column][/vc_row][vc_row][vc_column width=”1/2″]Issuekalender doorzoeken [/vc_column][vc_column width=”1/2″][/vc_column][/vc_row]
URL:https://issuekalender.nl/issue/week-van-het-couveusekind/2028-11-19/
CATEGORIES:Welzijn en gezondheid
END:VEVENT
END:VCALENDAR