BEGIN:VCALENDAR
VERSION:2.0
PRODID:-//Issuekalender - ECPv6.9.0//NONSGML v1.0//EN
CALSCALE:GREGORIAN
METHOD:PUBLISH
X-ORIGINAL-URL:https://issuekalender.nl
X-WR-CALDESC:Evenementen voor Issuekalender
REFRESH-INTERVAL;VALUE=DURATION:PT1H
X-Robots-Tag:noindex
X-PUBLISHED-TTL:PT1H
BEGIN:VTIMEZONE
TZID:Europe/Amsterdam
BEGIN:DAYLIGHT
TZOFFSETFROM:+0100
TZOFFSETTO:+0200
TZNAME:CEST
DTSTART:20280326T010000
END:DAYLIGHT
BEGIN:STANDARD
TZOFFSETFROM:+0200
TZOFFSETTO:+0100
TZNAME:CET
DTSTART:20281029T010000
END:STANDARD
END:VTIMEZONE
BEGIN:VEVENT
DTSTART;VALUE=DATE:20281001
DTEND;VALUE=DATE:20281201
DTSTAMP:20260423T093537
CREATED:20251125T120428Z
LAST-MODIFIED:20251125T120429Z
UID:10008177-1853971200-1859241599@issuekalender.nl
SUMMARY:HET VERGETEN PLANTSEIZOEN
DESCRIPTION:[vc_row][vc_column][vc_single_image image=”61″ css_animation=”fadeInUp” alignment=”left”][/vc_column][/vc_row][vc_row][vc_column][vc_column_text css_animation=”fadeIn” font_size=”45″ font_family=”Roboto” font_weight=”500″ color=”#57529e”]\nHET VERGETEN PLANTSEIZOEN \n[/vc_column_text][vc_empty_space height=”10px”][vc_single_image image=”88″ img_size=”medium” css_animation=”fadeInUp” alignment=”left”][/vc_column][/vc_row][vc_row][vc_column][vc_column_text css=””]Wist je dat het najaar het ideale moment is om te planten? Sinds de laatste 30 jaar tuinieren we voornamelijk in de lente. Dat is een gemiste kans\, want het najaar is perfect voor de aanplant en andere werkzaamheden in de tuin. En daarom organiseert NL Vergroent ook dit jaar ‘Het Vergeten Plantseizoen’ in oktober en november. Dan is de grond nog warm genoeg![/vc_column_text][/vc_column][/vc_row][vc_row][vc_column][vc_single_image image=”61″ css_animation=”fadeInUp” alignment=”left”][/vc_column][/vc_row][vc_row][vc_column width=”1/2″]Issuekalender doorzoeken [/vc_column][vc_column width=”1/2″][/vc_column][/vc_row]
URL:https://issuekalender.nl/issue/het-vergeten-plantseizoen-2/2028-10-01/
CATEGORIES:Milieu en duurzaamheid
ORGANIZER;CN="Stichting Steenbreek":MAILTO:info@steenbreek.nl
END:VEVENT
BEGIN:VEVENT
DTSTART;VALUE=DATE:20281101
DTEND;VALUE=DATE:20281201
DTSTAMP:20260423T093537
CREATED:20230717T072301Z
LAST-MODIFIED:20241002T095951Z
UID:10007049-1856649600-1859241599@issuekalender.nl
SUMMARY:MOVEMBER
DESCRIPTION:[vc_row][vc_column][vc_single_image image=”61″ css_animation=”fadeInUp” alignment=”left”][/vc_column][/vc_row][vc_row][vc_column][vc_column_text css_animation=”fadeIn” font_size=”45″ font_family=”Roboto” font_weight=”500″ color=”#57529e”]\nMOVEMBER \n[/vc_column_text][vc_empty_space height=”10px”][vc_single_image image=”88″ img_size=”medium” css_animation=”fadeInUp” alignment=”left”][/vc_column][/vc_row][vc_row][vc_column][vc_column_text]Achtergrond Movember\nMovember werd in 2003 in Australië opgericht om geld in te zamelen voor prostaat- en teelbalkankeronderzoek. Via de VS en het VK bereikte de stichting ook Nederland\, waar nu duizenden mannen in de maand november hun Movembersnor laten staan. Zij zamelen hiermee geld in\, dat vervolgens door Movember aan onderzoek wordt gedoneerd. Fondsen die worden opgehaald in Nederland worden ook uitgegeven in Nederland. 70% van de ingezamelde gelden wordt besteed aan KWF-Movember onderzoeksprojecten naar teelbal- en prostaatkanker. \nNaast prostaat- en teelbalkankeronderzoek besteedt Movember steeds meer aandacht aan de mentale gezondheid van de man. Volgens Movember krijgt één op de acht mannen in hun leven te maken met prostaatkanker\, komt teelbalkanker vaker voor bij mannen tussen de 18 en 40 dan bij andere leeftijdscategorieën en is wereldwijd 75% van de slachtoffers van zelfdoding man.[/vc_column_text][/vc_column][/vc_row][vc_row][vc_column][vc_single_image image=”61″ css_animation=”fadeInUp” alignment=”left”][/vc_column][/vc_row][vc_row][vc_column width=”1/2″]Issuekalender doorzoeken [/vc_column][vc_column width=”1/2″][/vc_column][/vc_row]
URL:https://issuekalender.nl/issue/movember/2028-11-01/
CATEGORIES:Mens en maatschappij,Welzijn en gezondheid
ORGANIZER;CN="Movember Foundation":MAILTO:netherlands@movember.com
END:VEVENT
BEGIN:VEVENT
DTSTART;VALUE=DATE:20281101
DTEND;VALUE=DATE:20281201
DTSTAMP:20260423T093537
CREATED:20251112T134808Z
LAST-MODIFIED:20251112T134808Z
UID:10007045-1856649600-1859241599@issuekalender.nl
SUMMARY:MAAND VAN HMB (HEVIG MENSTRUEEL BLOEDVERLIES)
DESCRIPTION:[vc_row][vc_column][vc_single_image image=”61″ css_animation=”fadeInUp” alignment=”left”][/vc_column][/vc_row][vc_row][vc_column][vc_column_text css_animation=”fadeIn” font_size=”45″ font_family=”Roboto” font_weight=”500″ color=”#57529e”]\nMAAND VAN HMB (HEVIG MENSTRUEEL BLOEDVERLIES) \n[/vc_column_text][vc_empty_space height=”10px”][vc_single_image image=”88″ img_size=”medium” css_animation=”fadeInUp” alignment=”left”][/vc_column][/vc_row][vc_row][vc_column][vc_column_text]November = campagnemaand Bloedserieus. De voorlichtingscampagne Bloedserieus informeert over de oorzaken en behandelopties bij hevig menstrueel bloedverlies (HMB). Ongeveer 1 op de 5 vrouwen tussen de 35 en 55 jaar heeft HMB. Te veel vrouwen lopen door met deze medisch erkende aandoening\, met onnodige gezondheidsrisco’s als gevolg. Aan HMB kan namelijk ook een ander medisch probleem ten grondslag liggen\, zoals een stollingsstoornis\, endometriose\, PCOS\, een infectie of gynaecologische kanker. Daarbij heeft HMB nadelige invloed op de kwaliteit van leven\, lichamelijk (ijzertekort)\, psychisch (angst voor doorlekken) en sociaal (afspraken afzeggen\, verzuim van werk).[/vc_column_text][/vc_column][/vc_row][vc_row][vc_column][vc_single_image image=”61″ css_animation=”fadeInUp” alignment=”left”][/vc_column][/vc_row][vc_row][vc_column width=”1/2″]Issuekalender doorzoeken [/vc_column][vc_column width=”1/2″][/vc_column][/vc_row]
URL:https://issuekalender.nl/issue/maand-van-hmb-hevig-menstrueel-bloedverlies-2/2028-11-01/
CATEGORIES:Overige,Welzijn en gezondheid
ORGANIZER;CN="Hologic Benelux":MAILTO:info@period.media
END:VEVENT
BEGIN:VEVENT
DTSTART;VALUE=DATE:20281103
DTEND;VALUE=DATE:20281111
DTSTAMP:20260423T093537
CREATED:20251117T115009Z
LAST-MODIFIED:20251117T115009Z
UID:10009456-1856822400-1857513599@issuekalender.nl
SUMMARY:WEEK VAN DE MEDIAWIJSHEID
DESCRIPTION:[vc_row][vc_column][vc_single_image image=”61″ css_animation=”fadeInUp” alignment=”left”][/vc_column][/vc_row][vc_row][vc_column][vc_column_text css_animation=”fadeIn” font_size=”45″ font_family=”Roboto” font_weight=”500″ color=”#57529e”]\nWEEK VAN DE MEDIAWIJSHEID \n[/vc_column_text][vc_empty_space height=”10px”][vc_single_image image=”88″ img_size=”medium” css_animation=”fadeInUp” alignment=”left”][/vc_column][/vc_row][vc_row][vc_column][vc_column_text]Mediawijsheid staat voor alle competenties die je nodig hebt om actief en bewust mee te doen aan de mediasamenleving. Tijdens de Week van de Mediawijsheid vraagt Mediawijzer.net aandacht van ouders\, jongeren en leerkrachten voor het belang van mediawijsheid en wordt er een maatschappelijke discussie geactiveerd.[/vc_column_text][/vc_column][/vc_row][vc_row][vc_column][vc_single_image image=”61″ css_animation=”fadeInUp” alignment=”left”][/vc_column][/vc_row][vc_row][vc_column width=”1/2″]Issuekalender doorzoeken [/vc_column][vc_column width=”1/2″][/vc_column][/vc_row]
URL:https://issuekalender.nl/issue/week-van-de-mediawijsheid-2/2028-11-03/
CATEGORIES:Onderwijs en educatie
ORGANIZER;CN="Netwerk Mediawijsheid":MAILTO:info@mediawijzer.net
END:VEVENT
BEGIN:VEVENT
DTSTART;VALUE=DATE:20281105
DTEND;VALUE=DATE:20281205
DTSTAMP:20260423T093537
CREATED:20251112T134825Z
LAST-MODIFIED:20251112T134825Z
UID:10009301-1856995200-1859587199@issuekalender.nl
SUMMARY:HEEL NEDERLAND LEEST
DESCRIPTION:[vc_row][vc_column][vc_single_image image=”61″ css_animation=”fadeInUp” alignment=”left”][/vc_column][/vc_row][vc_row][vc_column][vc_column_text css_animation=”fadeIn” font_size=”45″ font_family=”Roboto” font_weight=”500″ color=”#57529e”]\nNEDERLAND LEEST \n[/vc_column_text][vc_empty_space height=”10px”][vc_single_image image=”88″ img_size=”medium” css_animation=”fadeInUp” alignment=”left”][/vc_column][/vc_row][vc_row][vc_column][vc_column_text]Nederland Leest is een evenement ter bevordering van het lezen van boeken. Het vindt sinds 2006 jaarlijks plaats in de hele maand november. Het wordt georganiseerd door de Stichting Collectieve Propaganda van het Nederlandse Boek (CPNB). Lokale bibliotheken verspreid over heel Nederland hebben dat het jaarlijks wisselend boekje en allerlei evenementen en activiteiten.[/vc_column_text][/vc_column][/vc_row][vc_row][vc_column][vc_single_image image=”61″ css_animation=”fadeInUp” alignment=”left”][/vc_column][/vc_row][vc_row][vc_column width=”1/2″]Issuekalender doorzoeken [/vc_column][vc_column width=”1/2″][/vc_column][/vc_row]
URL:https://issuekalender.nl/issue/heel-nederland-leest-2/2028-11-05/
CATEGORIES:Kunst en cultuur
END:VEVENT
BEGIN:VEVENT
DTSTART;VALUE=DATE:20281106
DTEND;VALUE=DATE:20281113
DTSTAMP:20260423T093537
CREATED:20230717T074819Z
LAST-MODIFIED:20241024T151219Z
UID:10008967-1857081600-1857686399@issuekalender.nl
SUMMARY:WEEK VAN DE VRUCHTBAARHEID
DESCRIPTION:[vc_row][vc_column][vc_single_image image=”61″ css_animation=”fadeInUp” alignment=”left”][/vc_column][/vc_row][vc_row][vc_column][vc_column_text css_animation=”fadeIn” font_size=”45″ font_family=”Roboto” font_weight=”500″ color=”#57529e”]\nWEEK VAN DE VRUCHTBAARHEID \n[/vc_column_text][vc_empty_space height=”10px”][vc_single_image image=”88″ img_size=”medium” css_animation=”fadeInUp” alignment=”left”][/vc_column][/vc_row][vc_row][vc_column][vc_column_text]Sinds 2016 organiseren Europese patiëntenverenigingen European Fertility Week\, een initiatief van de koepelorganisatie Fertility Europe. In Nederland geeft Freya invulling aan de Week van de Vruchtbaarheid en beoogt met deze themaweek vooral meer begrip voor de situatie van mensen voor wie zwanger worden niet vanzelf gaat. \nDe Week van de Vruchtbaarheid is iedere hele eerste week van november.[/vc_column_text][/vc_column][/vc_row][vc_row][vc_column][vc_single_image image=”61″ css_animation=”fadeInUp” alignment=”left”][/vc_column][/vc_row][vc_row][vc_column width=”1/2″]Issuekalender doorzoeken [/vc_column][vc_column width=”1/2″][/vc_column][/vc_row]
URL:https://issuekalender.nl/issue/week-van-de-vruchtbaarheid/2028-11-06/
CATEGORIES:Welzijn en gezondheid
ORGANIZER;CN="Freya%2C Vereniging voor mensen met vruchtbaarheidsproblemen":MAILTO:communicatie@freya.nl
END:VEVENT
BEGIN:VEVENT
DTSTART;VALUE=DATE:20281106
DTEND;VALUE=DATE:20281113
DTSTAMP:20260423T093537
CREATED:20251125T145329Z
LAST-MODIFIED:20251125T145342Z
UID:10009582-1857081600-1857686399@issuekalender.nl
SUMMARY:Week van de Gelijke Kansen
DESCRIPTION:[vc_row][vc_column][vc_single_image image=”61″ css_animation=”fadeInUp” alignment=”left”][/vc_column][/vc_row][vc_row][vc_column][vc_column_text css_animation=”fadeIn” font_size=”45″ font_family=”Roboto” font_weight=”500″ color=”#57529e”]\nWeek van de Gelijke Kansen \n[/vc_column_text][vc_empty_space height=”10px”][vc_single_image image=”88″ img_size=”medium” css_animation=”fadeInUp” alignment=”left”][/vc_column][/vc_row][vc_row][vc_column][vc_column_text]In een rijk land als het onze zou het niet zo mogen zijn\, maar toch is het een feit: er bestaat in Nederland grote kansenongelijkheid onder kinderen. Tijdens de Week van Gelijke Kansen zetten we de spotlights op impactvolle projecten die kansengelijkheid vergroten. Met deze projecten slaan we een brug tussen leerlingen en de arbeidsmarkt. Jongeren leren solliciteren\, netwerken\, ondernemen en debatteren. Ze krijgen meer zelfvertrouwen en een breder perspectief. Alles met één doel: ervoor zorgen dat ieder kind zijn potentie kan vervullen. \nTijdens Week van Gelijke Kansen\, een initiatief van JINC\, zetten we inspirerende en impactvolle organisaties en projecten in de schijnwerpers. Zij versterken veerkracht en vergroten kansen. We laten politici\, beleidsmakers én het brede publiek zien hoe noodzakelijk dit werk is en hoe belangrijk het is dat iedereen zijn talenten kan benutten. \n[/vc_column_text][/vc_column][/vc_row][vc_row][vc_column][vc_single_image image=”61″ css_animation=”fadeInUp” alignment=”left”][/vc_column][/vc_row][vc_row][vc_column width=”1/2″]Issuekalender doorzoeken [/vc_column][vc_column width=”1/2″][/vc_column][/vc_row]
URL:https://issuekalender.nl/issue/week-van-de-gelijke-kansen/2028-11-06/
CATEGORIES:Mens en maatschappij
ORGANIZER;CN="jINC":MAILTO:info@weekvangelijkekansen.nl
END:VEVENT
BEGIN:VEVENT
DTSTART;VALUE=DATE:20281110
DTEND;VALUE=DATE:20281111
DTSTAMP:20260423T093537
CREATED:20230717T095948Z
LAST-MODIFIED:20241002T090825Z
UID:10007005-1857427200-1857513599@issuekalender.nl
SUMMARY:WERELDDAG VAN DE WETENSCHAP VOOR VREDE EN ONTWIKKELING (VN)
DESCRIPTION:[vc_row][vc_column][vc_single_image image=”61″ css_animation=”fadeInUp” alignment=”left”][/vc_column][/vc_row][vc_row][vc_column][vc_column_text css_animation=”fadeIn” font_size=”45″ font_family=”Roboto” font_weight=”500″ color=”#57529e”]\nWERELDDAG VAN DE WETENSCHAP VOOR VREDE EN ONTWIKKELING (VN) \n[/vc_column_text][vc_empty_space height=”10px”][vc_single_image image=”88″ img_size=”medium” css_animation=”fadeInUp” alignment=”left”][/vc_column][/vc_row][vc_row][vc_column][vc_column_text]Het doel van de Wereld Dag van de Wetenschap voor vrede en ontwikkeling is om de inzet van de wetenschap voor vrede en ontwikkeling en een verantwoord gebruik van de wetenschap ten bate van de samenleving te benadrukken. De Wereld Dag van de Wetenschap voor vrede en ontwikkeling richt zich ook op het verhogen van het publieke bewustzijn van het belang van wetenschap en om de kloof tussen wetenschap en samenleving te overbruggen. \nDeze dag wordt sinds 2001 op 10 november georganiseerd door de VN.[/vc_column_text][/vc_column][/vc_row][vc_row][vc_column][vc_single_image image=”61″ css_animation=”fadeInUp” alignment=”left”][/vc_column][/vc_row][vc_row][vc_column width=”1/2″]Issuekalender doorzoeken [/vc_column][vc_column width=”1/2″][/vc_column][/vc_row]
URL:https://issuekalender.nl/issue/werelddag-van-de-wetenschap-voor-vrede-en-ontwikkeling/2028-11-10/
CATEGORIES:Mens en maatschappij
END:VEVENT
BEGIN:VEVENT
DTSTART;VALUE=DATE:20281110
DTEND;VALUE=DATE:20281111
DTSTAMP:20260423T093537
CREATED:20230717T100142Z
LAST-MODIFIED:20241002T090645Z
UID:10006997-1857427200-1857513599@issuekalender.nl
SUMMARY:DAG VAN DE MANTELZORG
DESCRIPTION:[vc_row][vc_column][vc_single_image image=”61″ css_animation=”fadeInUp” alignment=”left”][/vc_column][/vc_row][vc_row][vc_column][vc_column_text css_animation=”fadeIn” font_size=”45″ font_family=”Roboto” font_weight=”500″ color=”#57529e”]\nDAG VAN DE MANTELZORG \n[/vc_column_text][vc_empty_space height=”10px”][vc_single_image image=”88″ img_size=”medium” css_animation=”fadeInUp” alignment=”left”][/vc_column][/vc_row][vc_row][vc_column][vc_column_text]In Nederland zijn er 3\,7 miljoen mensen die voor een ander zorgen. Liefst 750.000 mantelzorgers zorgen zelfs meer dan 8 uur per week voor iemand en doen dat langer dan 3 maanden. Vaak combineren ze dat met een betaalde baan. Omdat de zorg zich over het algemeen richt op bekenden\, vinden deze mantelzorgers hun werk vaak vanzelfsprekend\, maar dat is het niet. \nDaarom wordt de mantelzorger jaarlijks op 10 november in het zonnetje gezet tijdens de Dag van de Mantelzorg. Veel mantelzorgers doen hun werk in stilte. We zien hoe ze zorgen voor hun naaste en geen contact hebben met andere mantelzorgers. Op deze 10de november worden mantelzorgers op meer dan 200 plaatsen in Nederland feestelijk bij elkaar gebracht en wordt er waardering uitgesproken voor hun bijzondere werk. \nDe Dag van de Mantelzorg is ieder jaar op 10 november.[/vc_column_text][/vc_column][/vc_row][vc_row][vc_column][vc_single_image image=”61″ css_animation=”fadeInUp” alignment=”left”][/vc_column][/vc_row][vc_row][vc_column width=”1/2″]Issuekalender doorzoeken [/vc_column][vc_column width=”1/2″][/vc_column][/vc_row]
URL:https://issuekalender.nl/issue/dag-van-de-mantelzorg/2028-11-10/
CATEGORIES:Welzijn en gezondheid
END:VEVENT
END:VCALENDAR