BEGIN:VCALENDAR
VERSION:2.0
PRODID:-//Issuekalender - ECPv6.9.0//NONSGML v1.0//EN
CALSCALE:GREGORIAN
METHOD:PUBLISH
X-ORIGINAL-URL:https://issuekalender.nl
X-WR-CALDESC:Evenementen voor Issuekalender
REFRESH-INTERVAL;VALUE=DURATION:PT1H
X-Robots-Tag:noindex
X-PUBLISHED-TTL:PT1H
BEGIN:VTIMEZONE
TZID:Europe/Amsterdam
BEGIN:DAYLIGHT
TZOFFSETFROM:+0100
TZOFFSETTO:+0200
TZNAME:CEST
DTSTART:20280326T010000
END:DAYLIGHT
BEGIN:STANDARD
TZOFFSETFROM:+0200
TZOFFSETTO:+0100
TZNAME:CET
DTSTART:20281029T010000
END:STANDARD
END:VTIMEZONE
BEGIN:VEVENT
DTSTART;VALUE=DATE:20281001
DTEND;VALUE=DATE:20281201
DTSTAMP:20260423T180113
CREATED:20251125T120428Z
LAST-MODIFIED:20251125T120429Z
UID:10008177-1853971200-1859241599@issuekalender.nl
SUMMARY:HET VERGETEN PLANTSEIZOEN
DESCRIPTION:[vc_row][vc_column][vc_single_image image=”61″ css_animation=”fadeInUp” alignment=”left”][/vc_column][/vc_row][vc_row][vc_column][vc_column_text css_animation=”fadeIn” font_size=”45″ font_family=”Roboto” font_weight=”500″ color=”#57529e”]\nHET VERGETEN PLANTSEIZOEN \n[/vc_column_text][vc_empty_space height=”10px”][vc_single_image image=”88″ img_size=”medium” css_animation=”fadeInUp” alignment=”left”][/vc_column][/vc_row][vc_row][vc_column][vc_column_text css=””]Wist je dat het najaar het ideale moment is om te planten? Sinds de laatste 30 jaar tuinieren we voornamelijk in de lente. Dat is een gemiste kans\, want het najaar is perfect voor de aanplant en andere werkzaamheden in de tuin. En daarom organiseert NL Vergroent ook dit jaar ‘Het Vergeten Plantseizoen’ in oktober en november. Dan is de grond nog warm genoeg![/vc_column_text][/vc_column][/vc_row][vc_row][vc_column][vc_single_image image=”61″ css_animation=”fadeInUp” alignment=”left”][/vc_column][/vc_row][vc_row][vc_column width=”1/2″]Issuekalender doorzoeken [/vc_column][vc_column width=”1/2″][/vc_column][/vc_row]
URL:https://issuekalender.nl/issue/het-vergeten-plantseizoen-2/2028-10-01/
CATEGORIES:Milieu en duurzaamheid
ORGANIZER;CN="Stichting Steenbreek":MAILTO:info@steenbreek.nl
END:VEVENT
BEGIN:VEVENT
DTSTART;VALUE=DATE:20281101
DTEND;VALUE=DATE:20281201
DTSTAMP:20260423T180113
CREATED:20230717T072301Z
LAST-MODIFIED:20241002T095951Z
UID:10007049-1856649600-1859241599@issuekalender.nl
SUMMARY:MOVEMBER
DESCRIPTION:[vc_row][vc_column][vc_single_image image=”61″ css_animation=”fadeInUp” alignment=”left”][/vc_column][/vc_row][vc_row][vc_column][vc_column_text css_animation=”fadeIn” font_size=”45″ font_family=”Roboto” font_weight=”500″ color=”#57529e”]\nMOVEMBER \n[/vc_column_text][vc_empty_space height=”10px”][vc_single_image image=”88″ img_size=”medium” css_animation=”fadeInUp” alignment=”left”][/vc_column][/vc_row][vc_row][vc_column][vc_column_text]Achtergrond Movember\nMovember werd in 2003 in Australië opgericht om geld in te zamelen voor prostaat- en teelbalkankeronderzoek. Via de VS en het VK bereikte de stichting ook Nederland\, waar nu duizenden mannen in de maand november hun Movembersnor laten staan. Zij zamelen hiermee geld in\, dat vervolgens door Movember aan onderzoek wordt gedoneerd. Fondsen die worden opgehaald in Nederland worden ook uitgegeven in Nederland. 70% van de ingezamelde gelden wordt besteed aan KWF-Movember onderzoeksprojecten naar teelbal- en prostaatkanker. \nNaast prostaat- en teelbalkankeronderzoek besteedt Movember steeds meer aandacht aan de mentale gezondheid van de man. Volgens Movember krijgt één op de acht mannen in hun leven te maken met prostaatkanker\, komt teelbalkanker vaker voor bij mannen tussen de 18 en 40 dan bij andere leeftijdscategorieën en is wereldwijd 75% van de slachtoffers van zelfdoding man.[/vc_column_text][/vc_column][/vc_row][vc_row][vc_column][vc_single_image image=”61″ css_animation=”fadeInUp” alignment=”left”][/vc_column][/vc_row][vc_row][vc_column width=”1/2″]Issuekalender doorzoeken [/vc_column][vc_column width=”1/2″][/vc_column][/vc_row]
URL:https://issuekalender.nl/issue/movember/2028-11-01/
CATEGORIES:Mens en maatschappij,Welzijn en gezondheid
ORGANIZER;CN="Movember Foundation":MAILTO:netherlands@movember.com
END:VEVENT
BEGIN:VEVENT
DTSTART;VALUE=DATE:20281101
DTEND;VALUE=DATE:20281201
DTSTAMP:20260423T180113
CREATED:20251112T134808Z
LAST-MODIFIED:20251112T134808Z
UID:10007045-1856649600-1859241599@issuekalender.nl
SUMMARY:MAAND VAN HMB (HEVIG MENSTRUEEL BLOEDVERLIES)
DESCRIPTION:[vc_row][vc_column][vc_single_image image=”61″ css_animation=”fadeInUp” alignment=”left”][/vc_column][/vc_row][vc_row][vc_column][vc_column_text css_animation=”fadeIn” font_size=”45″ font_family=”Roboto” font_weight=”500″ color=”#57529e”]\nMAAND VAN HMB (HEVIG MENSTRUEEL BLOEDVERLIES) \n[/vc_column_text][vc_empty_space height=”10px”][vc_single_image image=”88″ img_size=”medium” css_animation=”fadeInUp” alignment=”left”][/vc_column][/vc_row][vc_row][vc_column][vc_column_text]November = campagnemaand Bloedserieus. De voorlichtingscampagne Bloedserieus informeert over de oorzaken en behandelopties bij hevig menstrueel bloedverlies (HMB). Ongeveer 1 op de 5 vrouwen tussen de 35 en 55 jaar heeft HMB. Te veel vrouwen lopen door met deze medisch erkende aandoening\, met onnodige gezondheidsrisco’s als gevolg. Aan HMB kan namelijk ook een ander medisch probleem ten grondslag liggen\, zoals een stollingsstoornis\, endometriose\, PCOS\, een infectie of gynaecologische kanker. Daarbij heeft HMB nadelige invloed op de kwaliteit van leven\, lichamelijk (ijzertekort)\, psychisch (angst voor doorlekken) en sociaal (afspraken afzeggen\, verzuim van werk).[/vc_column_text][/vc_column][/vc_row][vc_row][vc_column][vc_single_image image=”61″ css_animation=”fadeInUp” alignment=”left”][/vc_column][/vc_row][vc_row][vc_column width=”1/2″]Issuekalender doorzoeken [/vc_column][vc_column width=”1/2″][/vc_column][/vc_row]
URL:https://issuekalender.nl/issue/maand-van-hmb-hevig-menstrueel-bloedverlies-2/2028-11-01/
CATEGORIES:Overige,Welzijn en gezondheid
ORGANIZER;CN="Hologic Benelux":MAILTO:info@period.media
END:VEVENT
BEGIN:VEVENT
DTSTART;VALUE=DATE:20281102
DTEND;VALUE=DATE:20281103
DTSTAMP:20260423T180113
CREATED:20230717T073333Z
LAST-MODIFIED:20241002T094056Z
UID:10007041-1856736000-1856822399@issuekalender.nl
SUMMARY:INTERNATIONALE DAG TEGEN ONGESTRAFT GEWELD TEGEN JOURNALISTEN (VN)
DESCRIPTION:[vc_row][vc_column][vc_single_image image=”61″ css_animation=”fadeInUp” alignment=”left”][/vc_column][/vc_row][vc_row][vc_column][vc_column_text css_animation=”fadeIn” font_size=”45″ font_family=”Roboto” font_weight=”500″ color=”#57529e”]\nINTERNATIONALE DAG TEGEN ONGESTRAFT GEWELD TEGEN JOURNALISTEN (VN) \n[/vc_column_text][vc_empty_space height=”10px”][vc_single_image image=”88″ img_size=”medium” css_animation=”fadeInUp” alignment=”left”][/vc_column][/vc_row][vc_row][vc_column][vc_column_text]Deze dag is door de VN opgezet na de dood van 2 Franse journalisten in Mali in 2013. Op deze dag wordt jaarlijks stilgestaan bij de misdrijven tegen journalisten en worden overheden opgeroepen alles in het werk te stellen zodat journalisten ongehinderd hun werk kunnen doen. Slechts 1 op de 10 misdaden tegen journalisten in het afgelopen decennium heeft tot een veroordeling geleid\, becijfert de VN. Slechts 6% van de 593 moorden op journalisten tussen 2006 en 2013 is opgelost.[/vc_column_text][/vc_column][/vc_row][vc_row][vc_column][vc_single_image image=”61″ css_animation=”fadeInUp” alignment=”left”][/vc_column][/vc_row][vc_row][vc_column width=”1/2″]Issuekalender doorzoeken [/vc_column][vc_column width=”1/2″][/vc_column][/vc_row]
URL:https://issuekalender.nl/issue/internationale-dag-tegen-ongestraft-geweld-tegen-journalisten-vn/2028-11-02/
CATEGORIES:Overige
END:VEVENT
BEGIN:VEVENT
DTSTART;VALUE=DATE:20281102
DTEND;VALUE=DATE:20281103
DTSTAMP:20260423T180113
CREATED:20230717T104650Z
LAST-MODIFIED:20241002T091950Z
UID:10007013-1856736000-1856822399@issuekalender.nl
SUMMARY:WORLD DIGITAL PRESERVATION DAY
DESCRIPTION:[vc_row][vc_column][vc_single_image image=”61″ css_animation=”fadeInUp” alignment=”left”][/vc_column][/vc_row][vc_row][vc_column][vc_column_text css_animation=”fadeIn” font_size=”45″ font_family=”Roboto” font_weight=”500″ color=”#57529e”]\nWORLD DIGITAL PRESERVATION DAY \n[/vc_column_text][vc_empty_space height=”10px”][vc_single_image image=”88″ img_size=”medium” css_animation=”fadeInUp” alignment=”left”][/vc_column][/vc_row][vc_row][vc_column][vc_column_text]De Werelddag van de Digitale Duurzaamheid (voorheen International Digital Preservation Day) vindt ieder jaar plaats op de eerste donderdag van november. We staan dan stil bij wat we met elkaar al hebben bereikt en hopen nog meer bewustzijn en betrokkenheid te creëren voor wat ons in de komende jaren nog te doen staat om ons maatschappelijke digitale geheugen (archieven\, bibliotheken\, AV/media\, cultuur en wetenschap) voor de toekomst veilig te stellen. Doet jouw organisatie ook mee? \nNETWERK DIGITAAL ERFGOED\nDe Werelddag van de Digitale Duurzaamheid heet internationaal World Digital Preservation Day (WDPD). De dag is een initiatief van de Britse Digital Preservation Coalition en een groot aantal internationale partners\, waaronder het Netwerk Digitaal Erfgoed. Er vinden die dag wereldwijd tal van gerelateerde evenementen plaats. Het Netwerk Digitaal Erfgoed coördineert de activiteiten in Nederland\, zoals de internationale conferentie Memory Makers: Digital Preservation Skills and How to Get Them en de Digital Preservation Awards in het Amsterdam Museum. We roepen zoveel mogelijk erfgoedinstellingen op om aandacht te besteden aan deze dag en aan de eigen activiteiten op het gebied van duurzame toegang[/vc_column_text][/vc_column][/vc_row][vc_row][vc_column][vc_single_image image=”61″ css_animation=”fadeInUp” alignment=”left”][/vc_column][/vc_row][vc_row][vc_column width=”1/2″]Issuekalender doorzoeken [/vc_column][vc_column width=”1/2″][/vc_column][/vc_row]
URL:https://issuekalender.nl/issue/world-digital-preservation-day/2028-11-02/
CATEGORIES:Innovatie en technologie,Wetenschap
END:VEVENT
BEGIN:VEVENT
DTSTART;VALUE=DATE:20281102
DTEND;VALUE=DATE:20281103
DTSTAMP:20260423T180113
CREATED:20241016T140131Z
LAST-MODIFIED:20241016T142113Z
UID:10008057-1856736000-1856822399@issuekalender.nl
SUMMARY:WORLD RIGHT TO DIE DAY
DESCRIPTION:[vc_row][vc_column][vc_single_image image=”61″ css_animation=”fadeInUp” alignment=”left” css=””][/vc_column][/vc_row][vc_row][vc_column][vc_column_text css_animation=”fadeIn” css=”” color=”#57529e” font_size=”45″ font_family=”Roboto” font_weight=”500″]WORLD RIGHT TO DIE DAY[/vc_column_text][vc_empty_space height=”10px”][vc_single_image image=”88″ img_size=”medium” css_animation=”fadeInUp” alignment=”left” css=””][/vc_column][/vc_row][vc_row][vc_column][vc_column_text]\nVandaag is het World Right to Die Day\, de dag waarop wereldwijd wordt stilgestaan bij de strijd om het recht om te sterven zoals je zelf wilt. In Nederland zijn we daarmee al een eind op weg.\n\nDe NVVE zet zich al een dikke 50 jaar in voor keuzevrijheid aan het einde van het leven. Dat leverde onder andere de euthanasiewet op\, die in 2002 in werking trad. Daarmee kwam een waardige dood op een zelfgekozen moment voor veel mensen binnen bereik. Toch spreken we nog dagelijks mensen die niet geholpen kunnen worden. Zij hebben geen andere keuze dan om in eenzaamheid of ontreddering te wachten op de dood. Of om op een onwaardige manier zelf hun leven te beëindigen. \nDit zou niemand moeten overkomen en het is daarom nog altijd hard nodig dat we blijven strijden voor het bereikbaar maken van: \n\nEuthanasie voor wie dementie niet tot het natuurlijke einde wil meemaken\nEuthanasie voor mensen die psychisch lijden en echt niet verder willen\nEuthanasie of hulp bij zelfdoding bij een voltooid leven\nProfessionele hulp (buiten de arts) voor mensen die hun zelfdoding niet geheel op eigen kracht kunnen of willen voorbereiden en uitvoeren.\n\nEen legaal\, waardig\, veilig en betrouwbaar laatstewilmiddel voor wie zijn leven zelf wil beëindigen\n\nHet mogen bijstaan van mensen die zelf voor een waardige dood kiezen\n\n(https://www.nvve.nl/) \n\n[/vc_column_text][/vc_column][/vc_row][vc_row][vc_column][vc_single_image image=”61″ css_animation=”fadeInUp” alignment=”left” css=””][/vc_column][/vc_row][vc_row][vc_column width=”1/2″]Issuekalender doorzoeken [/vc_column][vc_column width=”1/2″][/vc_column][/vc_row]
URL:https://issuekalender.nl/issue/world-right-to-die-day/2028-11-02/
CATEGORIES:Welzijn en gezondheid
END:VEVENT
BEGIN:VEVENT
DTSTART;VALUE=DATE:20281102
DTEND;VALUE=DATE:20281103
DTSTAMP:20260423T180113
CREATED:20241023T144801Z
LAST-MODIFIED:20241024T070824Z
UID:10008291-1856736000-1856822399@issuekalender.nl
SUMMARY:NOVEMBER 2 REMEMBER
DESCRIPTION:[vc_row][vc_column][vc_single_image image=”61″ css_animation=”fadeInUp” alignment=”left”][/vc_column][/vc_row][vc_row][vc_column][vc_column_text css_animation=”fadeIn” font_size=”45″ font_family=”Roboto” font_weight=”500″ color=”#57529e”]\nNOVEMBER 2 REMEMBER \n[/vc_column_text][vc_empty_space height=”10px”][vc_single_image image=”88″ img_size=”medium” css_animation=”fadeInUp” alignment=”left”][/vc_column][/vc_row][vc_row][vc_column][vc_column_text]\n  \nIeder jaar organiseert Monuta November 2 Remember. Dit zijn herinneringsavonden in het hele land waar mensen samenkomen om stil te staan bij hun overleden dierbaren. Want afscheid nemen stopt niet bij de uitvaart. Dat gaat nog lang daarna door. En praten over rouw\, het delen van herinneringen en stilstaan bij degene die we moeten missen is belangrijk voor het goed afscheid kunnen nemen. Wij noemen dat open over afscheid zijn. November 2 Remember komt ieder jaar terug op 2 november. In het hele land komen zo’n 3.000 mensen samen op deze avonden. \n 
URL:https://issuekalender.nl/issue/november-2-remember/2028-11-02/
CATEGORIES:Mens en maatschappij,Religie
ORGANIZER;CN="Monuta":MAILTO:marketing@monuta.nl
END:VEVENT
BEGIN:VEVENT
DTSTART;VALUE=DATE:20281102
DTEND;VALUE=DATE:20281109
DTSTAMP:20260423T180113
CREATED:20230717T074046Z
LAST-MODIFIED:20241024T132734Z
UID:10008622-1856736000-1857340799@issuekalender.nl
SUMMARY:COLLECTE STICHTING ALZHEIMER NEDERLAND
DESCRIPTION:[vc_row][vc_column][vc_single_image image=”61″ css_animation=”fadeInUp” alignment=”left”][/vc_column][/vc_row][vc_row][vc_column][vc_column_text css_animation=”fadeIn” font_size=”45″ font_family=”Roboto” font_weight=”500″ color=”#57529e”]\nCOLLECTE STICHTING ALZHEIMER NEDERLAND \n[/vc_column_text][vc_empty_space height=”10px”][vc_single_image image=”88″ img_size=”medium” css_animation=”fadeInUp” alignment=”left”][/vc_column][/vc_row][vc_row][vc_column][vc_column_text]Alzheimer Nederland geeft al ruim 25 jaar hulp en informatie aan mensen met de ziekte van Alzheimer en andere vormen van dementie. Door belangenbehartiging en financiering van wetenschappelijk onderzoek draagt de Stichting bij aan een betere toekomst voor mensen met dementie. Alzheimer Nederland is afhankelijk van de inzet van vrijwilligers\, de bijdragen van donateurs en de opbrengst van de Collecteweek.[/vc_column_text][/vc_column][/vc_row][vc_row][vc_column][vc_single_image image=”61″ css_animation=”fadeInUp” alignment=”left”][/vc_column][/vc_row][vc_row][vc_column width=”1/2″]Issuekalender doorzoeken [/vc_column][vc_column width=”1/2″][/vc_column][/vc_row]
URL:https://issuekalender.nl/issue/collecte-stichting-alzheimer-nederland/2028-11-02/
CATEGORIES:Welzijn en gezondheid
ORGANIZER;CN="Alzheimer Nederland":MAILTO:info@alzheimer-nederland.nl
END:VEVENT
END:VCALENDAR