BEGIN:VCALENDAR
VERSION:2.0
PRODID:-//Issuekalender - ECPv6.9.0//NONSGML v1.0//EN
CALSCALE:GREGORIAN
METHOD:PUBLISH
X-WR-CALNAME:Issuekalender
X-ORIGINAL-URL:https://issuekalender.nl
X-WR-CALDESC:Evenementen voor Issuekalender
REFRESH-INTERVAL;VALUE=DURATION:PT1H
X-Robots-Tag:noindex
X-PUBLISHED-TTL:PT1H
BEGIN:VTIMEZONE
TZID:Europe/Amsterdam
BEGIN:DAYLIGHT
TZOFFSETFROM:+0100
TZOFFSETTO:+0200
TZNAME:CEST
DTSTART:20260329T010000
END:DAYLIGHT
BEGIN:STANDARD
TZOFFSETFROM:+0200
TZOFFSETTO:+0100
TZNAME:CET
DTSTART:20261025T010000
END:STANDARD
END:VTIMEZONE
BEGIN:VEVENT
DTSTART;VALUE=DATE:20260401
DTEND;VALUE=DATE:20260501
DTSTAMP:20260420T074424
CREATED:20231113T100049Z
LAST-MODIFIED:20241023T130010Z
UID:10008067-1775001600-1777593599@issuekalender.nl
SUMMARY:MAAND VAN DE GROENE TUIN
DESCRIPTION:[vc_row][vc_column][vc_single_image image=”61″ css_animation=”fadeInUp” alignment=”left”][/vc_column][/vc_row][vc_row][vc_column][vc_column_text css_animation=”fadeIn” css=”” font_size=”45″ font_family=”Roboto” font_weight=”500″ color=”#57529e”]\nMAAND VAN DE GROENE TUIN \n[/vc_column_text][vc_empty_space height=”10px”][vc_single_image image=”88″ img_size=”medium” css_animation=”fadeInUp” alignment=”left”][/vc_column][/vc_row][vc_row][vc_column][vc_column_text css=””]Het doel van de Maand van de Groene Tuin is om tuinbezitters te stimuleren hun eigen tuin én eigen straat (verder) te vergroenen en te verduurzamen. Een maand lang krijgen tuinbezitters tuintips zoals het ontstenen van hun tuin\, het voorkomen van plagen\, en tips om meer dieren in de tuin van voedsel en schuilplek te voorzien.[/vc_column_text][/vc_column][/vc_row][vc_row][vc_column][vc_single_image image=”61″ css_animation=”fadeInUp” alignment=”left”][/vc_column][/vc_row][vc_row][vc_column width=”1/2″]Issuekalender doorzoeken [/vc_column][vc_column width=”1/2″][/vc_column][/vc_row]
URL:https://issuekalender.nl/issue/maand-van-de-groene-tuin-2/2026-04-01/
CATEGORIES:Milieu en duurzaamheid
ORGANIZER;CN="Milieu Centraal":MAILTO:info@milieucentraal.nl
END:VEVENT
BEGIN:VEVENT
DTSTART;VALUE=DATE:20260420
DTEND;VALUE=DATE:20260427
DTSTAMP:20260420T074424
CREATED:20230715T131100Z
LAST-MODIFIED:20251117T092911Z
UID:10009385-1776643200-1777247999@issuekalender.nl
SUMMARY:WEEK VAN TWEEDEHANDS TEXTIEL
DESCRIPTION:[vc_row][vc_column][vc_single_image image=”61″ css_animation=”fadeInUp” alignment=”left”][/vc_column][/vc_row][vc_row][vc_column][vc_column_text css_animation=”fadeIn” font_size=”45″ font_family=”Roboto” font_weight=”500″ color=”#57529e”]\nWEEK VAN TWEEDEHANDS TEXTIEL \n[/vc_column_text][vc_empty_space height=”10px”][vc_single_image image=”88″ img_size=”medium” css_animation=”fadeInUp” alignment=”left”][/vc_column][/vc_row][vc_row][vc_column][vc_column_text]Textielhergebruik is goed voor onze lieve aarde. Het scheelt een boel grondstoffen en kilo’s gifstof als je je kleding een tweede leven geeft. Door het te doneren of zelf wat langer te dragen. In de Week van Tweedehands Textiel (WvTT) geven we dit onderwerp de welverdiende aandacht met leuke filmpjes\, blogs en events. \nDe textielindustrie is na de olie-industrie de meest vervuilende industrie. Voor de productie van een enkel katoenen shirtje is ca 7000 liter water nodig (staat gelijk aan twee maanden douchen)\, een spijkerbroek het dubbele. Met wat lepels gifstof en een intercontinentale reis -dus veel CO2- behoeft het geen uitleg dat de textielindustrie allesbehalve milieuvriendelijk is. \nWat het Leger des Heils veel zorgen baart\, is de terugloop van kwaliteit van onze textiel. In de laatste jaren zagen wij de berg van slechte textiel groeien van 20% naar ruim 40%. Dat komt door de opkomst van steeds meer goedkope retailers\, meer wisseling van seizoenen en nu de groei van de economie. Shop till you drop is funest voor onze lieve aarde. Onze koopkracht op textiel is niet te stuiten en we kiezen voor goedkoop en (dus) lage kwaliteit. Na de eerste eigenaar verdwijnt deze soort textiel -zo goed als versleten- in de bakken van o.a. het Leger des Heils. Op gebied van recycling doen de grote ketens nog veel te weinig. Ongeveer 5% van de kleding die wordt verkocht bestaat uit een klein percentage recyclede textiel. \nDaarom een Week van Tweedehands textiel: om aan te schaffen of te doneren.[/vc_column_text][/vc_column][/vc_row][vc_row][vc_column][vc_single_image image=”61″ css_animation=”fadeInUp” alignment=”left”][/vc_column][/vc_row][vc_row][vc_column width=”1/2″]Issuekalender doorzoeken [/vc_column][vc_column width=”1/2″][/vc_column][/vc_row]
URL:https://issuekalender.nl/issue/week-van-tweedehands-textiel/2026-04-20/
CATEGORIES:Milieu en duurzaamheid
END:VEVENT
BEGIN:VEVENT
DTSTART;VALUE=DATE:20260420
DTEND;VALUE=DATE:20260427
DTSTAMP:20260420T074424
CREATED:20251117T092814Z
LAST-MODIFIED:20251117T092814Z
UID:10008313-1776643200-1777247999@issuekalender.nl
SUMMARY:NATIONALE HARTFALENWEEK
DESCRIPTION:[vc_row][vc_column][vc_single_image image=”61″ css_animation=”fadeInUp” alignment=”left”][/vc_column][/vc_row][vc_row][vc_column][vc_column_text css_animation=”fadeIn” css=”” font_size=”45″ font_family=”Roboto” font_weight=”500″ color=”#57529e”]\nNATIONALE HARTFALENWEEK \n[/vc_column_text][vc_empty_space height=”10px”][vc_single_image image=”88″ img_size=”medium” css_animation=”fadeInUp” alignment=”left”][/vc_column][/vc_row][vc_row][vc_column][vc_column_text css=””]Bij hartfalen kan het hart niet genoeg bloed rondpompen. Daardoor krijgen organen en spieren niet genoeg zuurstof en voedingsstoffen. Deze ziekte ontstaat meestal geleidelijk. Zonder behandeling gaat\nhet hart steeds verder achteruit. Hartfalen is niet hetzelfde als een hartinfarct of een hartstilstand. Deze ziekten treden altijd plotseling op. Veel mensen herkennen klachten van hartfalen niet als signalen\nvan een ziekte. Hierdoor gaan zij te laat of zelfs niet naar een dokter. Tijdige behandeling kan juist voorkomen dat iemand steeds meer klachten krijgt en alsmaar zieker wordt. \nIn de periode om de Hartfalendag heen is er extra aandacht in ziekenhuizen en huisartspraktijken om mensen bewust te maken van hartfalen en de klachten die op hartfalen kunnen wijzen. Op de Hartfalendag zelf is er een congres voor cardiologen\, huisartsen\, fysiotherapeuten\, verpleegkundig specialisten\, hartfalenverpleegkundigen en andere (para)medici betrokken bij hartfalenzorg.[/vc_column_text][/vc_column][/vc_row][vc_row][vc_column][vc_single_image image=”61″ css_animation=”fadeInUp” alignment=”left”][/vc_column][/vc_row][vc_row][vc_column width=”1/2″]Issuekalender doorzoeken [/vc_column][vc_column width=”1/2″][/vc_column][/vc_row]
URL:https://issuekalender.nl/issue/nationale-hartfalenweek-2/2026-04-20/
CATEGORIES:Welzijn en gezondheid
ORGANIZER;CN="Hartstichting":MAILTO:r.vanduin@hartstichting.nl
END:VEVENT
END:VCALENDAR