BEGIN:VCALENDAR
VERSION:2.0
PRODID:-//Issuekalender - ECPv6.9.0//NONSGML v1.0//EN
CALSCALE:GREGORIAN
METHOD:PUBLISH
X-WR-CALNAME:Issuekalender
X-ORIGINAL-URL:https://issuekalender.nl
X-WR-CALDESC:Evenementen voor Issuekalender
REFRESH-INTERVAL;VALUE=DURATION:PT1H
X-Robots-Tag:noindex
X-PUBLISHED-TTL:PT1H
BEGIN:VTIMEZONE
TZID:Europe/Amsterdam
BEGIN:DAYLIGHT
TZOFFSETFROM:+0100
TZOFFSETTO:+0200
TZNAME:CEST
DTSTART:20230326T010000
END:DAYLIGHT
BEGIN:STANDARD
TZOFFSETFROM:+0200
TZOFFSETTO:+0100
TZNAME:CET
DTSTART:20231029T010000
END:STANDARD
END:VTIMEZONE
BEGIN:VEVENT
DTSTART;VALUE=DATE:20231010
DTEND;VALUE=DATE:20231011
DTSTAMP:20260424T025745
CREATED:20230717T062654Z
LAST-MODIFIED:20241002T135240Z
UID:10004317-1696896000-1696982399@issuekalender.nl
SUMMARY:INTERNATIONALE DAG TEGEN DE DOODSTRAF
DESCRIPTION:[vc_row][vc_column][vc_single_image image=”61″ css_animation=”fadeInUp” alignment=”left”][/vc_column][/vc_row][vc_row][vc_column][vc_column_text css_animation=”fadeIn” font_size=”45″ font_family=”Roboto” font_weight=”500″ color=”#57529e”]\nINTERNATIONALE DAG TEGEN DE DOODSTRAF \n[/vc_column_text][vc_empty_space height=”10px”][vc_single_image image=”88″ img_size=”medium” css_animation=”fadeInUp” alignment=”left”][/vc_column][/vc_row][vc_row][vc_column][vc_column_text]Al jaren lang voeren organisaties voor mensenrechten\, juristen\, vakbonden en lokale groepen de strijd tegen de doodstraf. De doodstraf wordt in ruim 20 landen nog steeds uitgevoerd. Sommige culturen voeren deze zo ‘humaan’ mogelijk uit terwijl sommigen hun veroordeelde zo lang mogelijk laten lijden. Ieder jaar op 10 oktober wordt de internationale dag tegen de doodstraf gevierd.[/vc_column_text][/vc_column][/vc_row][vc_row][vc_column][vc_single_image image=”61″ css_animation=”fadeInUp” alignment=”left”][/vc_column][/vc_row][vc_row][vc_column width=”1/2″]Issuekalender doorzoeken [/vc_column][vc_column width=”1/2″][/vc_column][/vc_row]
URL:https://issuekalender.nl/issue/internationale-dag-tegen-de-doodstraf/2023-10-10/
CATEGORIES:Mens en maatschappij
END:VEVENT
BEGIN:VEVENT
DTSTART;VALUE=DATE:20231010
DTEND;VALUE=DATE:20231011
DTSTAMP:20260424T025745
CREATED:20230717T062815Z
LAST-MODIFIED:20241122T164106Z
UID:10004322-1696896000-1696982399@issuekalender.nl
SUMMARY:DAG VAN DE MENTALE GEZONDHEID
DESCRIPTION:[vc_row][vc_column][vc_single_image image=”61″ css_animation=”fadeInUp” alignment=”left”][/vc_column][/vc_row][vc_row][vc_column][vc_column_text css_animation=”fadeIn” css=”” font_size=”45″ font_family=”Roboto” font_weight=”500″ color=”#57529e”]\nDAG VAN DE MENTALE GEZONDHEID \n[/vc_column_text][vc_empty_space height=”10px”][vc_single_image image=”88″ img_size=”medium” css_animation=”fadeInUp” alignment=”left”][/vc_column][/vc_row][vc_row][vc_column][vc_column_text css=””]De World Federation for Mental Health heeft jaren geleden 10 oktober uitgeroepen tot World Mental Health Day\, een dag om wereldwijd aandacht te besteden aan de psychische gezondheid. Meer dan honderd landen doen hieraan mee. Stichting MIND vraagt op de Dag van de Mentale Gezondheid extra aandacht voor het belang van openheid en het praten over psychische problematiek. Dit doet zij samen met partners en mensen die zelf ervaring hebben met mentale problemen.[/vc_column_text][/vc_column][/vc_row][vc_row][vc_column][vc_single_image image=”61″ css_animation=”fadeInUp” alignment=”left”][/vc_column][/vc_row][vc_row][vc_column width=”1/2″]Issuekalender doorzoeken [/vc_column][vc_column width=”1/2″][/vc_column][/vc_row]
URL:https://issuekalender.nl/issue/landelijke-dag-psychische-gezondheid/2023-10-10/
CATEGORIES:Overige,Welzijn en gezondheid
ORGANIZER;CN="Stichting MIND":MAILTO:info@wijzijnmind.nl
END:VEVENT
BEGIN:VEVENT
DTSTART;VALUE=DATE:20231010
DTEND;VALUE=DATE:20231011
DTSTAMP:20260424T025745
CREATED:20230717T062947Z
LAST-MODIFIED:20241002T135622Z
UID:10004327-1696896000-1696982399@issuekalender.nl
SUMMARY:WERELD DAKLOZENDAG
DESCRIPTION:[vc_row][vc_column][vc_single_image image=”61″ css_animation=”fadeInUp” alignment=”left”][/vc_column][/vc_row][vc_row][vc_column][vc_column_text css_animation=”fadeIn” font_size=”45″ font_family=”Roboto” font_weight=”500″ color=”#57529e”]\nWERELD DAKLOZENDAG \n[/vc_column_text][vc_empty_space height=”10px”][vc_single_image image=”88″ img_size=”medium” css_animation=”fadeInUp” alignment=”left”][/vc_column][/vc_row][vc_row][vc_column][vc_column_text]Ieder jaar op 10 oktober is het Wereld Daklozendag. De Straatalliantie wil op deze dag haar ernstige zorgen uiten over de grote toename en situatie van dak- en thuisloze mensen. Nu is het moment om met structurele en radicale oplossingen te komen om dakloosheid te voorkomen en uit te bannen. De basis daarvan is: een eigen thuis![/vc_column_text][/vc_column][/vc_row][vc_row][vc_column][vc_single_image image=”61″ css_animation=”fadeInUp” alignment=”left”][/vc_column][/vc_row][vc_row][vc_column width=”1/2″]Issuekalender doorzoeken [/vc_column][vc_column width=”1/2″][/vc_column][/vc_row]
URL:https://issuekalender.nl/issue/wereld-daklozendag/2023-10-10/
CATEGORIES:Mens en maatschappij
ORGANIZER;CN="De Straatallientie":MAILTO:spreekuur@dedaklozenvakbond.nl
END:VEVENT
END:VCALENDAR