BEGIN:VCALENDAR
VERSION:2.0
PRODID:-//Issuekalender - ECPv6.9.0//NONSGML v1.0//EN
CALSCALE:GREGORIAN
METHOD:PUBLISH
X-WR-CALNAME:Issuekalender
X-ORIGINAL-URL:https://issuekalender.nl
X-WR-CALDESC:Evenementen voor Issuekalender
REFRESH-INTERVAL;VALUE=DURATION:PT1H
X-Robots-Tag:noindex
X-PUBLISHED-TTL:PT1H
BEGIN:VTIMEZONE
TZID:Europe/Amsterdam
BEGIN:DAYLIGHT
TZOFFSETFROM:+0100
TZOFFSETTO:+0200
TZNAME:CEST
DTSTART:20230326T010000
END:DAYLIGHT
BEGIN:STANDARD
TZOFFSETFROM:+0200
TZOFFSETTO:+0100
TZNAME:CET
DTSTART:20231029T010000
END:STANDARD
END:VTIMEZONE
BEGIN:VEVENT
DTSTART;VALUE=DATE:20230923
DTEND;VALUE=DATE:20230924
DTSTAMP:20260424T142814
CREATED:20230713T131159Z
LAST-MODIFIED:20241007T141521Z
UID:10002813-1695427200-1695513599@issuekalender.nl
SUMMARY:BI VISIBILITY DAY
DESCRIPTION:[vc_row][vc_column][vc_single_image image=”61″ css_animation=”fadeInUp” alignment=”left”][/vc_column][/vc_row][vc_row][vc_column][vc_column_text css_animation=”fadeIn” font_size=”45″ font_family=”Roboto” font_weight=”500″ color=”#57529e”]\nBI VISIBILITY DAY \n[/vc_column_text][vc_empty_space height=”10px”][vc_single_image image=”88″ img_size=”medium” css_animation=”fadeInUp” alignment=”left”][/vc_column][/vc_row][vc_row][vc_column][vc_column_text]Al sinds 1999 is het op 23 september Bi Visibility Day. Vroeger heette deze dag ook wel ‘Celebrate Bisexuality Day’ of ‘Bisexual Awareness Day’. Maar Bi Visibility Day is de naam die nu het meest gangbaar is. \nOp deze dag is er wereldwijd aandacht voor biseksualiteit. Iedereen die aandacht wil vragen voor biseksualiteit kan op of rond die dag iets organiseren. In de  praktijk zijn dit vaak LHBTI-organisaties (lesbisch\, homo\, biseksueel\, transgender\, intersekse) die lezingen\, discussies\, films\, workshops\, campagnes\, picknicks en dergelijke organiseren. Valt de dag op een doordeweekse werkdag\, dan plannen ze die vaak op een andere dag dan 23-9. Op de internationale website van Bi Visibility Day worden alle wereldwijde activiteiten verzameld.[/vc_column_text][/vc_column][/vc_row][vc_row][vc_column][vc_single_image image=”61″ css_animation=”fadeInUp” alignment=”left”][/vc_column][/vc_row][vc_row][vc_column width=”1/2″]Issuekalender doorzoeken [/vc_column][vc_column width=”1/2″][/vc_column][/vc_row]
URL:https://issuekalender.nl/issue/bi-visibility-day/2023-09-23/
CATEGORIES:Mens en maatschappij
ORGANIZER;CN="Bi+ Nederland":MAILTO:info@biplus.nl
END:VEVENT
BEGIN:VEVENT
DTSTART;VALUE=DATE:20230923
DTEND;VALUE=DATE:20230924
DTSTAMP:20260424T142814
CREATED:20230713T131540Z
LAST-MODIFIED:20241007T141416Z
UID:10002828-1695427200-1695513599@issuekalender.nl
SUMMARY:WERELDDOVENDAG
DESCRIPTION:[vc_row][vc_column][vc_single_image image=”61″ css_animation=”fadeInUp” alignment=”left”][/vc_column][/vc_row][vc_row][vc_column][vc_column_text css_animation=”fadeIn” font_size=”45″ font_family=”Roboto” font_weight=”500″ color=”#57529e”]\nWERELDDOVENDAG \n[/vc_column_text][vc_empty_space height=”10px”][vc_single_image image=”88″ img_size=”medium” css_animation=”fadeInUp” alignment=”left”][/vc_column][/vc_row][vc_row][vc_column][vc_column_text]Werelddovendag wordt door de dovenwereld in Nederland en België gevierd op de vierde zaterdag van september. Deze dag werd in 1958 voor het eerst gelanceerd door de World Federation of the Deaf (WFD) onder de naam International Day of the Deaf. De maand is niet toevallig gekozen\, de WFD wilde met deze dag namelijk ook vieren dat het in september 1951 was opgericht. \nWerelddovendag is gelanceerd om meer bekendheid te geven aan doofheid en gebarentaal\, op te komen voor de rechten en belangen van doven\, doven te informeren via presentaties en infostands\, en de dovengemeenschap de gelegenheid te geven tot sociaal netwerken.[/vc_column_text][/vc_column][/vc_row][vc_row][vc_column][vc_single_image image=”61″ css_animation=”fadeInUp” alignment=”left”][/vc_column][/vc_row][vc_row][vc_column width=”1/2″]Issuekalender doorzoeken [/vc_column][vc_column width=”1/2″][/vc_column][/vc_row]
URL:https://issuekalender.nl/issue/werelddovendag/2023-09-23/
CATEGORIES:Welzijn en gezondheid
ORGANIZER;CN="Federatie van de Wereld Dove":MAILTO:werelddovendag@zbsd.nl
END:VEVENT
END:VCALENDAR