BEGIN:VCALENDAR
VERSION:2.0
PRODID:-//Issuekalender - ECPv6.9.0//NONSGML v1.0//EN
CALSCALE:GREGORIAN
METHOD:PUBLISH
X-WR-CALNAME:Issuekalender
X-ORIGINAL-URL:https://issuekalender.nl
X-WR-CALDESC:Evenementen voor Issuekalender
REFRESH-INTERVAL;VALUE=DURATION:PT1H
X-Robots-Tag:noindex
X-PUBLISHED-TTL:PT1H
BEGIN:VTIMEZONE
TZID:Europe/Amsterdam
BEGIN:DAYLIGHT
TZOFFSETFROM:+0100
TZOFFSETTO:+0200
TZNAME:CEST
DTSTART:20230326T010000
END:DAYLIGHT
BEGIN:STANDARD
TZOFFSETFROM:+0200
TZOFFSETTO:+0100
TZNAME:CET
DTSTART:20231029T010000
END:STANDARD
END:VTIMEZONE
BEGIN:VEVENT
DTSTART;VALUE=DATE:20230206
DTEND;VALUE=DATE:20230213
DTSTAMP:20260424T142815
CREATED:20230714T075759Z
LAST-MODIFIED:20241024T124245Z
UID:10003122-1675641600-1676246399@issuekalender.nl
SUMMARY:WEEK VAN HET OORSUIZEN
DESCRIPTION:[vc_row][vc_column][vc_single_image image=”61″ css_animation=”fadeInUp” alignment=”left”][/vc_column][/vc_row][vc_row][vc_column][vc_column_text css_animation=”fadeIn” font_size=”45″ font_family=”Roboto” font_weight=”500″ color=”#57529e”]\nWEEK VAN HET OORSUIZEN \n[/vc_column_text][vc_empty_space height=”10px”][vc_single_image image=”88″ img_size=”medium” css_animation=”fadeInUp” alignment=”left”][/vc_column][/vc_row][vc_row][vc_column][vc_column_text css=””]Stel je eens voor. Vierentwintig uur per dag herrie in je hoofd. Wat als je altijd een ruis\, piep\, brom\, fluit\, suis of een ander geluid hoort? Ruim 1 miljoen mensen in Nederland hebben hiermee te maken. Het aantal stijgt\, vooral onder jongeren. Goede voorlichting en preventie zijn meer dan ooit nodig. \nDeze week valt altijd samen met de Tinnitus Awareness Week van de Britse zusterorganisatie British Tinnitus Association (BTA) (Tinnitus Awareness Week is observed the first full week of February and the purpose of it is to educate the public about the symptoms of tinnitus and how it affects people.)[/vc_column_text][/vc_column][/vc_row][vc_row][vc_column][vc_single_image image=”61″ css_animation=”fadeInUp” alignment=”left”][/vc_column][/vc_row][vc_row][vc_column width=”1/2″]Issuekalender doorzoeken [/vc_column][vc_column width=”1/2″][/vc_column][/vc_row]
URL:https://issuekalender.nl/issue/week-van-het-oorsuizen/2023-02-06/
CATEGORIES:Welzijn en gezondheid
ORGANIZER;CN="Stichting Hoormij":MAILTO:info@stichtinghoormij.nl
END:VEVENT
BEGIN:VEVENT
DTSTART;VALUE=DATE:20230207
DTEND;VALUE=DATE:20230208
DTSTAMP:20260424T142815
CREATED:20230714T080301Z
LAST-MODIFIED:20241024T094412Z
UID:10008306-1675728000-1675814399@issuekalender.nl
SUMMARY:DAG VAN DE CONCIËRGE
DESCRIPTION:[vc_row][vc_column][vc_single_image image=”61″ css_animation=”fadeInUp” alignment=”left”][/vc_column][/vc_row][vc_row][vc_column][vc_column_text css_animation=”fadeIn” font_size=”45″ font_family=”Roboto” font_weight=”500″ color=”#57529e”]\nDAG VAN DE CONCIËRGE \n[/vc_column_text][vc_empty_space height=”10px”][vc_single_image image=”88″ img_size=”medium” css_animation=”fadeInUp” alignment=”left”][/vc_column][/vc_row][vc_row][vc_column][vc_column_text]Vanuit het leerlab sociale veiligheid wil Curio het belang van conciërges beter op de kaart zetten. Zij spelen een belangrijke rol in de handhaving van de sfeer op scholen. Er wordt conciërges hierin een grote verantwoordelijkheid gegeven\, maar deze wordt niet genoeg gewaardeerd. Daarom organiseren wij een jaarlijkse dag van de conciërge.[/vc_column_text][/vc_column][/vc_row][vc_row][vc_column][vc_single_image image=”61″ css_animation=”fadeInUp” alignment=”left”][/vc_column][/vc_row][vc_row][vc_column width=”1/2″]Issuekalender doorzoeken [/vc_column][vc_column width=”1/2″][/vc_column][/vc_row]
URL:https://issuekalender.nl/issue/dag-van-de-concierge/2023-02-07/
CATEGORIES:Onderwijs en educatie,Werk en welzijn
ORGANIZER;CN="Leerlab Sociale Veiligheid van Curio":MAILTO:b.vangoethem@curio.nl
END:VEVENT
END:VCALENDAR